Workbook

Sheet 16S-m-c
A1: AGT Mills
A2: COSTING DETAILS
A3: 16s MODAL/COTTON(50/50) | C3: Waste% | E3: wm | H3: FLEECE | J3: Waste% | L3: wm
B4: Mixing | D4: 100 | E4: =D4/$D$10 -> 1.0689456 | I4: Mixing | K4: 100 | L4: =K4/$K$11 -> 1.4026239
B5: Blow room | C5: 0.3 | D5: =D4-C5 -> 99.7 | E5: =D5/$D$10 -> 1.0657388 | I5: Blow room | J5: 5 | K5: =K4-J5 -> 95 | L5: =K5/$K$11 -> 1.3324927
B6: Carding | C6: 2.5 | D6: =D5-D5*(C6/100) -> 97.2075 | E6: =D6/$D$10 -> 1.0390953 | I6: Carding | J6: 9 | K6: =K5-K5*(J6/100) -> 86.45 | L6: =K6/$K$11 -> 1.2125683
B7: Drawing | C7: 0.5 | D7: =D6-D6*(C7/100) -> 96.721463 | E7: =D7/$D$10 -> 1.0338998 | I7: Comber | J7: 15 | K7: =K6-K6*(J7/100) -> 73.4825 | L7: =K7/$K$11 -> 1.0306831
B8: Simplex | C8: 0.2 | D8: =D7-D7*(C8/100) -> 96.52802 | E8: =D8/$D$10 -> 1.031832 | I8: Drawing | J8: 0.5 | K8: =K7-K7*(J8/100) -> 73.115088 | L8: =K8/$K$11 -> 1.0255297
B9: Spinnig | C9: 2.5 | D9: =D8-D8*(C9/100) -> 94.114819 | E9: =D9/$D$10 -> 1.0060362 | I9: Simplex | J9: 0.2 | K9: =K8-K8*(J9/100) -> 72.968857 | L9: =K9/$K$11 -> 1.0234786
B10: Autoconer | C10: 0.6 | D10: =D9-D9*(C10/100) -> 93.55013 | E10: =D10/$D$10 -> 1 | I10: Spinning | J10: 2 | K10: =K9-K9*(J10/100) -> 71.50948 | L10: =K10/$K$11 -> 1.003009
I11: Autoconer | J11: 0.3 | K11: =K10-K10*(J11/100) -> 71.294952 | L11: =K11/$K$11 -> 1
A12: Mixing | C12: Lap feed line | E12: back tenter | F12: =2*22.5 -> 45 | H12: cotton/lycra
A13: Operative hours | B13: =9*5 -> 45 | C13: Lap wt | D13: 24 | E13: sc tenter | F13: =1*22.5 -> 22.5
A14: kgs | B14: 2000 | C14: Time/Lap | D14: 6 | E14: Lap tier | F14: 22.5 | H14: Mixing | J14: Lap feed line | L14: back tenter | M14: =1*22.5 -> 22.5
A15: HOK | B15: =B13*100*E4/B14 -> 2.4051276 | C15: Eff | D15: 0.85 | E15: sweeper | F15: 22.5 | H15: Bale carrier | I15: =2*8 -> 16 | J15: Lap wt | K15: 26.25 | L15: sc tenter | M15: =1*22.5 -> 22.5
C16: prdn/hr | D16: =2*60*D13*D15/D14 -> 408 | E16: fitter+help | F16: =3*8 -> 24 | H16: kgs | I16: 2000 | J16: Time/Lap | K16: 6 | L16: Lap tier | M16: 0
C17: prdn/day | D17: =B28*D16 -> 6760.56 | F17: =SUM(F12:F16) -> 136.5 | H17: HOK | I17: =I15*100*L4/I16 -> 1.1220991 | J17: Eff | K17: 0.85 | L17: sweeper | M17: 22.5
C18: HP | D18: 98.2 | E18: HOK | F18: =F17*100*E5/D17 -> 2.1517942 | H18: Mix operatives | I18: =11*8 -> 88 | J18: prdn/hr | K18: =60*K15*K17/K16 -> 223.125 | L18: fitter+help | M18: 0
A19: Bale opener HP | B19: 5.25 | C19: units/hr | D19: =D18*0.5*0.9 -> 44.19 | H19: kgs | I19: 2000 | J19: prdn/day | K19: =I30*K18 -> 3697.1813 | M19: =SUM(M14:M18) -> 67.5
A20: Prod/ hr | B20: 500 | H20: HOK | I20: =I18*100*L4/I19 -> 6.171545 | J20: HP | K20: 94.75 | L20: HOK | M20: =M19*100*L5/K19 -> 2.4327521
A21: UKG | B21: =B19*0.5*E4/B20 -> 0.0056119644 | C21: UKG | D21: =D19*B29*E5/D17 -> 0.15673811 | H21: Bale opener HP | I21: 5.25 | J21: units/hr | K21: =K20*0.5*0.8 -> 37.9
A22: Cards | B22: Lap cards | H22: Prod/ hr | I22: 500
A23: Hank | B23: 0.12 | H23: UKG | I23: =I21*0.5*L4/I22 -> 0.0073637752 | J23: UKG | K23: =K21*I31*L5/K19 -> 0.30733768
A24: Mpm | B24: 100 | H24: Cards | I24: Lap cards | K24: SL / RL | L24: sl | M24: rl
A25: Efficiency | B25: 0.85 | H25: Hank | I25: 0.14 | K25: wt/mt | L25: 55 | M25: 57
A26: Prod/card/hr | B26: =B24*1.0936*60*B25*0.4536/(840*B23) -> 25.09812 | H26: Mpm | I26: 110 | K26: mpm | L26: 55 | M26: 55
A27: No of cards | B27: 3 | H27: Efficiency | I27: 0.85 | K27: eff | L27: 0.65 | M27: 0.65
A28: Avg/card/HP | B28: 16.57 | H28: Prod/card/hr | I28: =I26*1.0936*60*I27*0.4536/(840*I25) -> 23.663942 | K28: prdn/hr | L28: =L25*L26*60*L27/1000 -> 117.975 | M28: =M25*M26*60*M27/1000 -> 122.265
A29: Hours/day | B29: 22.5 | H29: No of cards | I29: 3 | K29: HP | L29: 4 | M29: 4
A30: Prod/day | B30: =B29*B26*B27 -> 1694.1231 | H30: Avg/card/HP | I30: 16.57 | K30: units/hr | L30: =L29*0.5*L27 -> 1.3 | M30: =M29*0.5*M27 -> 1.3
A31: Total op hrs | B31: 22.5 | H31: Hours/day | I31: 22.5 | K31: UKG | L31: =L30*L6/L28 -> 0.013361634 | M31: =M30*L6/M28 -> 0.012892805
A32: hok | B32: =B31*100*E7/B30 -> 1.3731438 | H32: Prod/day | I32: =I31*I28*I29 -> 1597.3161 | K32: Comber
A33: Avg Unis/hr/card | B33: =B28*0.55*B25 -> 7.746475 | H33: Total op hrs | I33: 22.5 | K33: npm | L33: 190
A34: UKG | B34: =B33*B27*E7/B30*B29 -> 0.31911072 | H34: hok | I34: =I33*100*L6/I32 -> 1.7080394 | K34: rate of feed | L34: 4.9
A35: Drawing | B35: Breaker | C35: Finisher | H35: Avg Unis/hr/card | I35: =I30*0.5*I27 -> 7.04225 | K35: waste% | L35: 15
A36: Hank | B36: 0.122 | C36: 0.125 | H36: UKG | I36: =I35*I29*L6/I32 -> 0.01603792 | K36: eff | L36: 0.8
A37: Mpm | B37: 220 | C37: 400 | K37: prdn/hr | L37: =L33*L34*L36*60*(100-L35)/100*57*8/1000/1000/1.1 -> 15.746426
A38: Efficiency | B38: 0.85 | C38: 0.85 | K38: prdn/cmr/day | L38: =L37*24 -> 377.91423
A39: Prod/day/m/c | B39: =24*60*B37*1.0936*B38*2*0.4536/(840*B36) -> 2606.9129 | C39: =24*60*C37*1.0936*C38*0.4536/(840*C36) -> 2313.0427 | K39: no.of.cmbr | L39: 5
A40: Tenter Op.hrs | B40: =4*22.5/9 -> 10 | C40: =4*22.5/9 -> 10 | K40: op/hrs | L40: =3*22.5 -> 67.5
...

Sheet 80s Mic.Modal
A1: AGT Mills
A2: COSTING DETAILS
A3: 2/80s Micro Modal | C3: Waste% | E3: wm
B4: Mixing | D4: 100 | E4: =D4/$D$10 -> 1.0689456
B5: Blow room | C5: 0.3 | D5: =D4-C5 -> 99.7 | E5: =D5/$D$10 -> 1.0657388
B6: Carding | C6: 2.5 | D6: =D5-D5*(C6/100) -> 97.2075 | E6: =D6/$D$10 -> 1.0390953
B7: Drawing | C7: 0.5 | D7: =D6-D6*(C7/100) -> 96.721463 | E7: =D7/$D$10 -> 1.0338998
B8: Simplex | C8: 0.2 | D8: =D7-D7*(C8/100) -> 96.52802 | E8: =D8/$D$10 -> 1.031832
B9: Spinnig | C9: 2.5 | D9: =D8-D8*(C9/100) -> 94.114819 | E9: =D9/$D$10 -> 1.0060362
B10: Autoconer | C10: 0.6 | D10: =D9-D9*(C10/100) -> 93.55013 | E10: =D10/$D$10 -> 1
A12: Mixing | C12: Lap feed line | E12: back tenter | F12: =2*22.5 -> 45
A13: Bale carrier | B13: =5*8 -> 40 | C13: Lap wt | D13: 26.25 | E13: sc tenter | F13: =1*22.5 -> 22.5
A14: kgs | B14: 9000 | C14: Time/Lap | D14: 6 | E14: Lap tier | F14: 22.5
A15: HOK | B15: =B13*100*E4/B14 -> 0.47508693 | C15: Eff | D15: 0.85 | E15: sweeper | F15: 22.5
A16: Mix operatives | B16: =15*8 -> 120 | C16: prdn/hr | D16: =2*60*D13*D15/D14 -> 446.25 | E16: fitter+help | F16: =3*8 -> 24
A17: kgs | B17: 9000 | C17: prdn/day | D17: =B28*D16 -> 7394.3625 | F17: =SUM(F12:F16) -> 136.5
A18: HOK | B18: =B16*100*E4/B17 -> 1.4252608 | C18: HP | D18: 98.2 | E18: HOK | F18: =F17*100*E5/D17 -> 1.9673547
A19: Bale opener HP | B19: 5.25 | C19: units/hr | D19: =D18*0.5*0.9 -> 44.19
A20: Prod/ hr | B20: 500
A21: UKG | B21: =B19*0.5*E4/B20 -> 0.0056119644 | C21: UKG | D21: =D19*B29*E5/D17 -> 0.14330342
A22: Cards | B22: Lap cards
A23: Hank | B23: 0.18
A24: Mpm | B24: 80
A25: Efficiency | B25: 0.85
A26: Prod/card/hr | B26: =B24*1.0936*60*B25*0.4536/(840*B23) -> 13.385664
A27: No of cards | B27: 4
A28: Avg/card/HP | B28: 16.57
A29: Hours/day | B29: 22.5
A30: Prod/day | B30: =B29*B26*B27 -> 1204.7098
A31: Total op hrs | B31: 22.5
A32: hok | B32: =B31*100*E5/B30 -> 1.9904481
A33: Avg Unis/hr/card | B33: =B28*0.55*B25 -> 7.746475
A34: UKG | B34: =B33*B27*E5/B30*B29 -> 0.61675825
A35: Drawing | B35: Breaker | C35: Finisher
A36: Hank | B36: 0.19 | C36: 0.2
A37: Mpm | B37: 220 | C37: 400
A38: Efficiency | B38: 0.85 | C38: 0.85
A39: Prod/day/m/c | B39: =24*60*B37*1.0936*B38*2*0.4536/(840*B36) -> 1673.9125 | C39: =24*60*C37*1.0936*C38*0.4536/(840*C36) -> 1445.6517
A40: Tenter Op.hrs | B40: =4*22.5/9 -> 10 | C40: =4*22.5/9 -> 10
A41: Hok | B41: =B40*100*E7/B39 -> 0.61765463 | C41: =C40*100*E7/C39 -> 0.71517905
...

Sheet 20S (2)
A1: AGT Mills
A2: COSTING DETAILS
A3: 20s VSF | C3: Waste% | E3: wm
B4: Mixing | D4: 100 | E4: =D4/$D$12 -> 1.0732342
B5: Blow room | C5: 0.3 | D5: =D4-C5 -> 99.7 | E5: =D5/$D$12 -> 1.0700145
B6: Carding | C6: 2.5 | D6: =D5-D5*(C6/100) -> 97.2075 | E6: =D6/$D$12 -> 1.0432642
B7: Drawing | C7: 0.5 | D7: =D6-D6*(C7/100) -> 96.721463 | E7: =D7/$D$12 -> 1.0380479
B8: Simplex | C8: 0.2 | D8: =D7-D7*(C8/100) -> 96.52802 | E8: =D8/$D$12 -> 1.0359718
B9: Spinnig | C9: 2.5 | D9: =D8-D8*(C9/100) -> 94.114819 | E9: =D9/$D$12 -> 1.0100725
B10: Autoconer | C10: 0.6 | D10: =D9-D9*(C10/100) -> 93.55013 | E10: =D10/$D$12 -> 1.004012
B11: Doubler winding | C11: 0.2 | D11: =D10-D10*(C11/100) -> 93.36303 | E11: =D11/$D$12 -> 1.002004
B12: TFO | C12: 0.2 | D12: =D11-D11*(C12/100) -> 93.176304 | E12: =D12/$D$12 -> 1
A14: Mixing | C14: Lap feed line | E14: back tenter | F14: =2*22.5 -> 45
A15: Bale carrier | B15: =5*8 -> 40 | C15: Lap wt | D15: 26.25 | E15: sc tenter | F15: =1*22.5 -> 22.5
A16: kgs | B16: 9000 | C16: Time/Lap | D16: 6 | E16: Lap tier | F16: 22.5
A17: HOK | B17: =B15*100*E4/B16 -> 0.476993 | C17: Eff | D17: 0.85 | E17: sweeper | F17: 22.5
A18: Mix operatives | B18: =15*8 -> 120 | C18: prdn/hr | D18: =2*60*D15*D17/D16 -> 446.25 | E18: fitter+help | F18: =3*8 -> 24
A19: kgs | B19: 9000 | C19: prdn/day | D19: =B30*D18 -> 7394.3625 | F19: =SUM(F14:F18) -> 136.5
A20: HOK | B20: =B18*100*E4/B19 -> 1.430979 | C20: HP | D20: 98.2 | E20: HOK | F20: =F19*100*E5/D19 -> 1.9752478
A21: Bale opener HP | B21: 5.25 | C21: units/hr | D21: =D20*0.5*0.9 -> 44.19
A22: Prod/ hr | B22: 500
A23: UKG | B23: =B21*0.5*E4/B22 -> 0.0056344798 | C23: UKG | D23: =D21*B31*E5/D19 -> 0.14387835
A24: Cards | B24: Lap cards
A25: Hank | B25: 0.18
A26: Mpm | B26: 80
A27: Efficiency | B27: 0.85
A28: Prod/card/hr | B28: =B26*1.0936*60*B27*0.4536/(840*B25) -> 13.385664
A29: No of cards | B29: 4
A30: Avg/card/HP | B30: 16.57
A31: Hours/day | B31: 22.5
A32: Prod/day | B32: =B31*B28*B29 -> 1204.7098
A33: Total op hrs | B33: 22.5
A34: hok | B34: =B33*100*E7/B32 -> 1.9387306
A35: Avg Unis/hr/card | B35: =B30*0.55*B27 -> 7.746475
A36: UKG | B36: =B35*B29*E7/B32*B31 -> 0.60073313
A37: Drawing | B37: Breaker | C37: Finisher
A38: Hank | B38: 0.105 | C38: 0.11
A39: Mpm | B39: 220 | C39: 400
A40: Efficiency | B40: 0.85 | C40: 0.85
A41: Prod/day/m/c | B41: =24*60*B39*1.0936*B40*2*0.4536/(840*B38) -> 3028.9845 | C41: =24*60*C39*1.0936*C40*0.4536/(840*C38) -> 2628.4577
...

Sheet o.e-(K)
A1: AGT Mills
A2: COSTING DETAILS
A3: open end | C3: Waste% | E3: wm
B4: Mixing | D4: 100 | E4: =D4/$D$8 -> 1.1249744
B5: Blow room | C5: 4 | D5: =D4-C5 -> 96 | E5: =D5/$D$8 -> 1.0799754
B6: Carding | C6: 6 | D6: =D5-D5*(C6/100) -> 90.24 | E6: =D6/$D$8 -> 1.0151769
B7: Drawing | C7: 0.5 | D7: =D6-D6*(C7/100) -> 89.7888 | E7: =D7/$D$8 -> 1.010101
B8: O.E | C8: 1 | D8: =D7-D7*(C8/100) -> 88.890912 | E8: =D8/$D$8 -> 1
A11: Mixing | C11: Lap feed line | E11: back tenter | F11: =2*22.5 -> 45
A12: Bale carrier | B12: =5*8 -> 40 | C12: Lap wt | D12: 26.25 | E12: sc tenter | F12: =1*22.5 -> 22.5
A13: kgs | B13: 11500 | C13: Time/Lap | D13: 6 | E13: Lap tier | F13: 22.5
A14: HOK | B14: =B12*100*E4/B13 -> 0.39129544 | C14: Eff | D14: 0.85 | E14: sweeper | F14: 22.5
A15: Mix operatives | B15: =15*8 -> 120 | C15: prdn/hr | D15: =2*60*D12*D14/D13 -> 446.25 | E15: fitter+help | F15: =3*8 -> 24
A16: kgs | B16: 11500 | C16: prdn/day | D16: =B27*D15 -> 7394.3625 | F16: =SUM(F11:F15) -> 136.5
A17: HOK | B17: =B15*100*E4/B16 -> 1.1738863 | C17: HP | D17: 94.75 | E17: HOK | F17: =F16*100*E4/D16 -> 2.0767038
A18: Bale opener HP | B18: 5.25 | C18: units/hr | D18: =D17*0.5*0.9 -> 42.6375
A19: Prod/ hr | B19: 500
A20: UKG | B20: =B18*0.5*E4/B19 -> 0.0059061156 | C20: UKG | D20: =D18*B28*E5/D16 -> 0.14011589
A21: Cards | B21: Lap cards
A22: Hank | B22: 0.14
A23: Mpm | B23: 130
A24: Efficiency | B24: 0.85
A25: Prod/card/hr | B25: =B23*1.0936*60*B24*0.4536/(840*B22) -> 27.966477
A26: No of cards | B26: 7
A27: Avg/card/HP | B27: 16.57
A28: Hours/day | B28: 22.5
A29: Prod/day | B29: =B28*B25*B26 -> 4404.7201
A30: Total op hrs | B30: 22.5
A31: hok | B31: =B30*100*E6/B29 -> 0.51856826
A32: Avg Unis/hr/card | B32: =B27*0.55*B24 -> 7.746475
A33: UKG | B33: =B32*B26*E6/B29*B28 -> 0.28119532
A34: Drawing | B34: Finisher
A35: Hank | B35: 0.14
A36: Mpm | B36: 450
A37: Efficiency | B37: 0.85
A38: Prod/day/m/c | B38: =24*60*B36*1.0936*B37*0.4536/(840*B35) -> 2323.3688
A39: Tenter Op.hrs | B39: =22.5/2 -> 11.25
A40: Hok | B40: =B39*100*E7/B38 -> 0.4891017
A41: HP | B41: 12.33
A42: Units/m/c/day | B42: =B41*0.5*B37*24 -> 125.766
...

Sheet 30s o.e-(K) (3)
A1: AGT Mills
A2: COSTING DETAILS
A3: open end | C3: Waste% | E3: wm
B4: Mixing | D4: 100 | E4: =D4/$D$8 -> 1.1249744
B5: Blow room | C5: 4 | D5: =D4-C5 -> 96 | E5: =D5/$D$8 -> 1.0799754
B6: Carding | C6: 6 | D6: =D5-D5*(C6/100) -> 90.24 | E6: =D6/$D$8 -> 1.0151769
B7: Drawing | C7: 0.5 | D7: =D6-D6*(C7/100) -> 89.7888 | E7: =D7/$D$8 -> 1.010101
B8: O.E | C8: 1 | D8: =D7-D7*(C8/100) -> 88.890912 | E8: =D8/$D$8 -> 1
A11: Mixing | C11: Lap feed line | E11: back tenter | F11: =2*22.5 -> 45
A12: Bale carrier | B12: =5*8 -> 40 | C12: Lap wt | D12: 26.25 | E12: sc tenter | F12: =1*22.5 -> 22.5
A13: kgs | B13: 11500 | C13: Time/Lap | D13: 6 | E13: Lap tier | F13: 22.5
A14: HOK | B14: =B12*100*E4/B13 -> 0.39129544 | C14: Eff | D14: 0.85 | E14: sweeper | F14: 22.5
A15: Mix operatives | B15: =15*8 -> 120 | C15: prdn/hr | D15: =2*60*D12*D14/D13 -> 446.25 | E15: fitter+help | F15: =3*8 -> 24
A16: kgs | B16: 11500 | C16: prdn/day | D16: =B27*D15 -> 7394.3625 | F16: =SUM(F11:F15) -> 136.5
A17: HOK | B17: =B15*100*E4/B16 -> 1.1738863 | C17: HP | D17: 94.75 | E17: HOK | F17: =F16*100*E4/D16 -> 2.0767038
A18: Bale opener HP | B18: 5.25 | C18: units/hr | D18: =D17*0.5*0.9 -> 42.6375
A19: Prod/ hr | B19: 500
A20: UKG | B20: =B18*0.5*E4/B19 -> 0.0059061156 | C20: UKG | D20: =D18*B28*E5/D16 -> 0.14011589
A21: Cards | B21: Lap cards
A22: Hank | B22: 0.13
A23: Mpm | B23: 120
A24: Efficiency | B24: 0.8
A25: Prod/card/hr | B25: =B23*1.0936*60*B24*0.4536/(840*B22) -> 26.165642
A26: No of cards | B26: 7
A27: Avg/card/HP | B27: 16.57
A28: Hours/day | B28: 22.5
A29: Prod/day | B29: =B28*B25*B26 -> 4121.0886
A30: Total op hrs | B30: 22.5
A31: hok | B31: =B30*100*E6/B29 -> 0.55425841
A32: Avg Unis/hr/card | B32: =B27*0.55*B24 -> 7.2908
A33: UKG | B33: =B32*B26*E6/B29*B28 -> 0.28286911
A34: Drawing | B34: Finisher
A35: Hank | B35: 0.13
A36: Mpm | B36: 450
A37: Efficiency | B37: 0.8
A38: Prod/day/m/c | B38: =24*60*B36*1.0936*B37*0.4536/(840*B35) -> 2354.9078
A39: Tenter Op.hrs | B39: =22.5/2 -> 11.25
A40: Hok | B40: =B39*100*E7/B38 -> 0.48255123
A41: HP | B41: 12.33
A42: Units/m/c/day | B42: =B41*0.5*B37*24 -> 118.368
...

Sheet Prep Datas
A1: PREPARATORY DATAS
A2: Department | B2: Machine | C2: Nos./Deliveries | D2: Hank | E2: MPM | F2: Efficiency % | G2: HP | H2: Motor Eff %
A3: Blow room | B3: 1 | C3: 1 | D3: 0.0015 | E3: 11 | F3: 90 | G3: 29 | H3: 69
B4: Overall | C4: =AVERAGE(C3:C3) -> 1 | D4: =AVERAGE(D3:D3) -> 0.0015 | E4: =AVERAGE(E3:E3) -> 11 | F4: =AVERAGE(F3:F3) -> 90 | G4: =AVERAGE(G3:G3) -> 29 | H4: =AVERAGE(H3:H3) -> 69
A6: Carding | B6: 1 | C6: 1 | D6: 0.15 | E6: 110 | F6: 90 | G6: 22 | H6: 72
B7: 2 | C7: 1
B8: 3 | C8: 1
B9: 4 | C9: 1
B10: 5 | C10: 1
B11: Overall | C11: =AVERAGE(C6:C10) -> 1 | D11: =AVERAGE(D6:D10) -> 0.15 | E11: =AVERAGE(E6:E10) -> 110 | F11: =AVERAGE(F6:F10) -> 90 | G11: =AVERAGE(G6:G10) -> 22 | H11: =AVERAGE(H6:H10) -> 72
A13: Drawing Breaker | B13: 1 | C13: 2 | D13: 0.155 | E13: 450 | F13: 85 | G13: 9.5 | H13: 44
B14: Overall | C14: =AVERAGE(C13:C13) -> 2 | D14: =AVERAGE(D13:D13) -> 0.155 | E14: =AVERAGE(E13:E13) -> 450 | F14: =AVERAGE(F13:F13) -> 85 | G14: =AVERAGE(G13:G13) -> 9.5 | H14: =AVERAGE(H13:H13) -> 44
A16: Drawing Finisher | B16: 1 | C16: 1 | D16: 0.16 | E16: 450 | F16: 85 | G16: 9.5 | H16: 44
B17: 2 | C17: 1 | D17: 0.16 | E17: 450 | F17: 85 | G17: 9.5 | H17: 44
B18: Overall | C18: =AVERAGE(C16:C17) -> 1 | D18: =AVERAGE(D16:D17) -> 0.16 | E18: =AVERAGE(E16:E17) -> 450 | F18: =AVERAGE(F16:F17) -> 85 | G18: =AVERAGE(G16:G17) -> 9.5 | H18: =AVERAGE(H16:H17) -> 44
A20: Simplex | B20: 1 | C20: 132 | D20: 1.6 | E20: 21.29 | F20: 85 | G20: 12.5 | H20: 65
B21: 2 | C21: 132 | D21: 1.6 | E21: 21.29 | F21: 85 | G21: 12.5 | H21: 65
B22: Overall | C22: =AVERAGE(C20:C21) -> 132 | D22: =AVERAGE(D20:D21) -> 1.6 | E22: =AVERAGE(E20:E21) -> 21.29 | F22: =AVERAGE(F20:F21) -> 85 | G22: =AVERAGE(G20:G21) -> 12.5 | H22: =AVERAGE(H20:H21) -> 65

Sheet Spin MF
A1: Spinning Modernisation Factor
A2: Date : | B2: =TODAY() -> 45161
A3: R.F.No. | B3: Make | C3: Main | D3: Type of | E3: ABS Pulley | F3: Spl. wharve | G3: Ring Tube | H3: Ring | I3: MF
C4: Motor | D4: Drive | E4: Dia in " | F4: Dia in " | G4: Ht. in mm | H4: Dia in mm
C5: Std = 0.00 | D5: V/T Belt = 0.00 | E5: 10 | F5: 25.4 | G5: 210 | H5: 42
C6: EE = 3.00% | D6: Flat = 3.00% | E6: 1 Inch = 2.00% | F6: 1 MM = 1.00% | G6: 10 MM = 1.00% | H6: 1 MM = 2.00%
C7: 3 | D7: 3 | E7: 2 | F7: 1 | G7: 1 | H7: 2
A9: 1 | B9: G5/1 | C9: 0 | D9: 3 | E9: 10 | F9: 18.5 | G9: 190 | H9: 38 | I9: =(0.92)-(((C9+D9)+((E9-$E$5)/1)*($E$7)+(($F$5-F9)/1*($F$7))+(($G$5-G9)/10*($G$7))+(($H$5-H9)/1*($H$7)))/100) -> 0.721
A10: 2 | I10: =I$9 -> 0.721
A11: 3 | I11: =I$9 -> 0.721
A12: 4 | I12: =I$9 -> 0.721
A13: 5 | I13: =I$9 -> 0.721
A14: 6 | I14: =I$9 -> 0.721
A15: 7 | I15: =I$9 -> 0.721
A16: 8 | I16: =I$9 -> 0.721
A17: 9 | I17: =I$9 -> 0.721
A18: 10 | I18: =I$9 -> 0.721
A19: 11 | I19: =I$9 -> 0.721
A20: ** This working is based on SITRA ' Ring spindle power consumption in watts formula' but consideing modernisation level **

Sheet Spin Datas
A1: SPINNING DATAS
A2: ='Overall UKG'!A2:B2 -> Date : | B2: ='Overall UKG'!B2 -> 45161
A3: Ring Frame
A4: RF No. | B4: RFs. | C4: Spls. | D4: Count | E4: S.Speed | F4: TPI | G4: Eff | H4: Gms / Spl | I4: Kgs/Day | J4: MF | K4: Pne. HP | L4: OHTC
A5: 1 | B5: 1 | C5: 960 | D5: 58 | E5: 17600 | F5: 24.38 | G5: 96 | H5: =(7.2*E5*(G5/100))/(D5*F5) -> 86.030947 | I5: =H5*C5*3/1000 -> 247.76913 | J5: ='Spin MF'!I9 -> 0.721 | K5: 7.5 | L5: 1.5
A6: 2 | B6: 1 | C6: 960 | D6: 58 | E6: 17600 | F6: 24.38 | G6: 96 | H6: =(7.2*E6*(G6/100))/(D6*F6) -> 86.030947 | I6: =H6*C6*3/1000 -> 247.76913 | J6: ='Spin MF'!I10 -> 0.721 | K6: 7.5 | L6: 1.5
A7: 3 | B7: 1 | C7: 960 | D7: 58 | E7: 17600 | F7: 24.38 | G7: 96 | H7: =(7.2*E7*(G7/100))/(D7*F7) -> 86.030947 | I7: =H7*C7*3/1000 -> 247.76913 | J7: ='Spin MF'!I11 -> 0.721 | K7: 7.5 | L7: 1.5
A8: 4 | B8: 1 | C8: 960 | D8: 58 | E8: 17600 | F8: 24.38 | G8: 96 | H8: =(7.2*E8*(G8/100))/(D8*F8) -> 86.030947 | I8: =H8*C8*3/1000 -> 247.76913 | J8: ='Spin MF'!I12 -> 0.721 | K8: 7.5 | L8: 1.5
A9: 5 | B9: 1 | C9: 960 | D9: 58 | E9: 17600 | F9: 24.38 | G9: 96 | H9: =(7.2*E9*(G9/100))/(D9*F9) -> 86.030947 | I9: =H9*C9*3/1000 -> 247.76913 | J9: ='Spin MF'!I13 -> 0.721 | K9: 7.5 | L9: 1.5
A10: 6 | B10: 1 | C10: 960 | D10: 58 | E10: 17600 | F10: 24.38 | G10: 96 | H10: =(7.2*E10*(G10/100))/(D10*F10) -> 86.030947 | I10: =H10*C10*3/1000 -> 247.76913 | J10: ='Spin MF'!I14 -> 0.721 | K10: 7.5 | L10: 1.5
A11: 7 | B11: 1 | C11: 960 | D11: 58 | E11: 17600 | F11: 24.38 | G11: 96 | H11: =(7.2*E11*(G11/100))/(D11*F11) -> 86.030947 | I11: =H11*C11*3/1000 -> 247.76913 | J11: ='Spin MF'!I15 -> 0.721 | K11: 7.5 | L11: 1.5
A12: 8 | B12: 1 | C12: 960 | D12: 58 | E12: 17600 | F12: 24.38 | G12: 96 | H12: =(7.2*E12*(G12/100))/(D12*F12) -> 86.030947 | I12: =H12*C12*3/1000 -> 247.76913 | J12: ='Spin MF'!I16 -> 0.721 | K12: 7.5 | L12: 1.5
A13: 9 | B13: 1 | C13: 960 | D13: 58 | E13: 17600 | F13: 24.38 | G13: 96 | H13: =(7.2*E13*(G13/100))/(D13*F13) -> 86.030947 | I13: =H13*C13*3/1000 -> 247.76913 | J13: ='Spin MF'!I17 -> 0.721 | K13: 7.5 | L13: 1.5
A14: 10 | B14: 1 | C14: 960 | D14: 58 | E14: 17600 | F14: 24.38 | G14: 96 | H14: =(7.2*E14*(G14/100))/(D14*F14) -> 86.030947 | I14: =H14*C14*3/1000 -> 247.76913 | J14: ='Spin MF'!I18 -> 0.721 | K14: 7.5 | L14: 1.5
A15: 11 | B15: 1 | C15: 960 | D15: 58 | E15: 17600 | F15: 24.38 | G15: 96 | H15: =(7.2*E15*(G15/100))/(D15*F15) -> 86.030947 | I15: =H15*C15*3/1000 -> 247.76913 | J15: ='Spin MF'!I19 -> 0.721 | K15: 7.5 | L15: 1.5
A16: Overall | B16: =SUM(B5:B15) -> 11 | C16: =(($B5*C5)+($B6*C6)+($B7*C7)+($B8*C8)+($B9*C9)+($B10*C10)+($B11*C11)+($B12*C12)+($B13*C13)+($B14*C14)+($B15*C15))/($B16) -> 960 | D16: =(($B5*D5)+($B6*D6)+($B7*D7)+($B8*D8)+($B9*D9)+($B10*D10)+($B11*D11)+($B12*D12)+($B13*D13)+($B14*D14)+($B15*D15))/($B16) -> 58 | E16: =(($B5*E5)+($B6*E6)+($B7*E7)+($B8*E8)+($B9*E9)+($B10*E10)+($B11*E11)+($B12*E12)+($B13*E13)+($B14*E14)+($B15*E15))/($B16) -> 17600 | F16: =(($B5*F5)+($B6*F6)+($B7*F7)+($B8*F8)+($B9*F9)+($B10*F10)+($B11*F11)+($B12*F12)+($B13*F13)+($B14*F14)+($B15*F15))/($B16) -> 24.38 | G16: =(($B5*G5)+($B6*G6)+($B7*G7)+($B8*G8)+($B9*G9)+($B10*G10)+($B11*G11)+($B12*G12)+($B13*G13)+($B14*G14)+($B15*G15))/($B16) -> 96 | H16: =(7.2*E16*(G16/100))/(D16*F16) -> 86.030947 | I16: =SUM(I5:I15) -> 2725.4604 | J16: =(($B5*J5)+($B6*J6)+($B7*J7)+($B8*J8)+($B9*J9)+($B10*J10)+($B11*J11)+($B12*J12)+($B13*J13)+($B14*J14)+($B15*J15))/($B16) -> 0.721 | K16: =(($B5*K5)+($B6*K6)+($B7*K7)+($B8*K8)+($B9*K9)+($B10*K10)+($B11*K11)+($B12*K12)+($B13*K13)+($B14*K14)+($B15*K15))/($B16) -> 7.5 | L16: =(($B5*L5)+($B6*L6)+($B7*L7)+($B8*L8)+($B9*L9)+($B10*L10)+($B11*L11)+($B12*L12)+($B13*L13)+($B14*L14)+($B15*L15))/($B16) -> 1.5

Sheet Post Spin Datas
A1: Auto Coner
A2: Machine | B2: Nos. | C2: Drums | D2: Count | E2: MPM | F2: HP | G2: OHTC
A3: 1 | B3: 1 | C3: 72 | D3: 58 | E3: 1650 | F3: 30 | G3: 2
A4: 2 | B4: 1 | C4: 72 | D4: 58 | E4: 1650 | F4: 30 | G4: 2
A5: Overall | B5: =SUM(B3:B4) -> 2 | C5: =(($B3*C3)+($B4*C4))/($B5) -> 72 | D5: =(($B3*D3)+($B4*D4))/($B5) -> 58 | E5: =(($B3*E3)+($B4*E4))/($B5) -> 1650 | F5: =(($B3*F3)+($B4*F4))/($B5) -> 30 | G5: =(($B3*G3)+($B4*G4))/($B5) -> 2

Sheet Overall UKG
A1: EXPECTED UKG - BLEND PROCESS
A2: Date : | B2: =TODAY() -> 45161
A3: RFs. | B3: ='Spin Datas'!B16 -> 11
A4: Kgs./Day | B4: =J21*B3 -> 2657.3239
A6: Process | I6: Cotton Fleese (Carded) | L6: Blend
A7: Blend | I7: 15 | L7: =100-(C7+I7) -> 85
A8: Dept. | I8: Mixing | J8: Blow room | K8: Carding | L8: Mixing | M8: Blow room | N8: Carding | O8: Drawing | P8: Simplex | Q8: Spinning | R8: Auto Coner
A9: Waste % | I9: - | J9: 0.25 | K9: 0.25 | L9: - | M9: 0.5 | N9: 2.5 | O9: 0.25 | P9: 0.25 | Q9: 2.5 | R9: 0.4
A10: YR % ( For UKG ) | I10: 100 | J10: =I10-J9 -> 99.75 | K10: =J10-(J10*(K9/100)) -> 99.500625 | L10: 100 | M10: =L10-M9 -> 99.5 | N10: =M10-(M10*(N9/100)) -> 97.0125 | O10: =N10-(N10*(O9/100)) -> 96.769969 | P10: =O10-(O10*(P9/100)) -> 96.528044 | Q10: =P10-(P10*(Q9/100)) -> 94.114843 | R10: =Q10-(Q10*(R9/100)) -> 93.738383
A11: Wm | I11: =I10/$K$10 -> 1.0050188 | J11: =J10/$K$10 -> 1.0025063 | K11: =K10/$K$10 -> 1 | L11: =L10/$R$10 -> 1.0667989 | M11: =M10/$R$10 -> 1.0614649 | N11: =N10/$R$10 -> 1.0349282 | O11: =O10/$R$10 -> 1.0323409 | P11: =P10/$R$10 -> 1.0297601 | Q11: =Q10/$R$10 -> 1.0040161 | R11: =R10/$R$10 -> 1
A13: Process | E13: Parameters | M13: UKG
A14: Department | E14: Count | F14: MPM | G14: Eff % | H14: Kgs / Hr | I14: Utili % | J14: Kgs/ Day | K14: No.of | L14: Total Kgs | M14: KW | N14: Motor | O14: Units / | P14: Units / | Q14: UKG
K15: Delivery | L15: per Day | N15: Eff % | O15: Hour | P15: Day | Q15: Individual | R15: Overall
A16: Blow Room (PC) | E16: ='Prep Datas'!D4 -> 0.0015 | F16: ='Prep Datas'!E4 -> 11 | G16: ='Prep Datas'!F4 -> 90 | H16: =F16*60*(G16/100)/(768*E16*2.2045) -> 233.89658 | I16: 95 | J16: =H16*24*(I16/100) -> 5332.8419 | K16: ='Prep Datas'!C4 -> 1 | L16: =J16*K16 -> 5332.8419 | M16: ='Prep Datas'!G4 -> 29 | N16: ='Prep Datas'!H4 -> 69 | O16: =M16*(N16/100) -> 20.01 | P16: =O16*24*(I16/100) -> 456.228 | Q16: =(P16*M11/L16) -> 0.09080899 | R16: =SUM(Q16:Q20) -> 1.0254269
A17: Carding (PC) | E17: ='Prep Datas'!D11 -> 0.15 | F17: ='Prep Datas'!E11 -> 110 | G17: ='Prep Datas'!F11 -> 90 | H17: =F17*60*(G17/100)/(768*E17*2.2045) -> 23.389658 | I17: 95 | J17: =H17*24*(I17/100) -> 533.28419 | K17: ='Prep Datas'!C11 -> 1 | L17: =J17*K17 -> 533.28419 | M17: ='Prep Datas'!G11 -> 22 | N17: ='Prep Datas'!H11 -> 72 | O17: =M17*(N17/100) -> 15.84 | P17: =O17*24*(I17/100) -> 361.152 | Q17: =(P17*N11/L17) -> 0.70087659
A18: Drawing (Breaker) | E18: ='Prep Datas'!D14 -> 0.155 | F18: ='Prep Datas'!E14 -> 450 | G18: ='Prep Datas'!F14 -> 85 | H18: =F18*60*(G18/100)/(768*E18*2.2045) -> 87.453998 | I18: 95 | J18: =H18*24*(I18/100) -> 1993.9512 | K18: ='Prep Datas'!C14 -> 2 | L18: =J18*K18 -> 3987.9023 | M18: ='Prep Datas'!G14 -> 9.5 | N18: ='Prep Datas'!H14 -> 44 | O18: =M18*(N18/100) -> 4.18 | P18: =O18*24*(I18/100) -> 95.304 | Q18: =(P18*O11/L18) -> 0.024671171
A19: Drawing (Finisher) | E19: ='Prep Datas'!D18 -> 0.16 | F19: ='Prep Datas'!E18 -> 450 | G19: ='Prep Datas'!F18 -> 85 | H19: =F19*60*(G19/100)/(768*E19*2.2045) -> 84.721061 | I19: 95 | J19: =H19*24*(I19/100) -> 1931.6402 | K19: ='Prep Datas'!C18 -> 1 | L19: =J19*K19 -> 1931.6402 | M19: ='Prep Datas'!G18 -> 9.5 | N19: ='Prep Datas'!H18 -> 44 | O19: =M19*(N19/100) -> 4.18 | P19: =O19*24*(I19/100) -> 95.304 | Q19: =(P19*O11/L19) -> 0.05093403
A20: Simplex | E20: ='Prep Datas'!D22 -> 1.6 | F20: ='Prep Datas'!E22 -> 21.29 | G20: ='Prep Datas'!F22 -> 85 | H20: =F20*60*(G20/100)/(768*E20*2.2045) -> 0.40082475 | I20: 95 | J20: =H20*24*(I20/100) -> 9.1388043 | K20: ='Prep Datas'!C22 -> 132 | L20: =J20*K20 -> 1206.3222 | M20: ='Prep Datas'!G22 -> 12.5 | N20: ='Prep Datas'!H22 -> 65 | O20: =M20*(N20/100) -> 8.125 | P20: =O20*24*(I20/100) -> 185.25 | Q20: =(P20*P11/L20) -> 0.15813607
A21: Spinning - Main | E21: ='Spin Datas'!D16 -> 58 | F21: - | G21: - | H21: - | I21: 97.5 | J21: =('Spin Datas'!H16*'Spin Datas'!C16*3)/1000*(I21/100) -> 241.5749 | K21: - | L21: - | M21: - | N21: - | O21: =((7.5+(80/'Spin Datas'!D16)+(500/('Spin Datas'!F16*'Spin Datas'!F16)))*('Spin Datas'!E16/10000)*('Spin Datas'!E16/10000)*'Spin Datas'!J16)*'Spin Datas'!C16/1000 -> 20.841126 | P21: =O21*24*(I21/100) -> 487.68236 | Q21: =(P21*Q11/J21) -> 2.02687 | R21: =SUM(Q21:Q23) -> 2.5208783
A22: - Pneumafil | E22: - | F22: - | G22: - | H22: - | I22: - | J22: - | K22: - | L22: - | M22: ='Spin Datas'!K16 -> 7.5 | N22: 52 | O22: =M22*(N22/100) -> 3.9 | P22: =O22*24*(I21/100) -> 91.26 | Q22: =P22/J21 -> 0.37777104
A23: - OHTC | E23: - | F23: - | G23: - | H23: - | I23: - | J23: - | K23: - | L23: - | M23: ='Spin Datas'!L16 -> 1.5 | N23: 80 | O23: =M23*(N23/100) -> 1.2 | P23: =O23*24*(I21/100) -> 28.08 | Q23: =P23/J21 -> 0.11623724
A24: Post Spinning - Main | E24: ='Post Spin Datas'!D5 -> 58 | F24: ='Post Spin Datas'!E5 -> 1650 | G24: 80 | H24: =F24*60*(G24/100)/(768*'Post Spin Datas'!D5*2.2045) -> 0.80653991 | I24: 95 | J24: =H24*24*(I24/100) -> 18.38911 | K24: ='Post Spin Datas'!C5 -> 72 | L24: =J24*K24 -> 1324.0159 | M24: ='Post Spin Datas'!F5 -> 30 | N24: 60 | O24: =M24*(N24/100) -> 18 | P24: =O24*24*(I24/100) -> 410.4 | Q24: =(P24*R11/L24) -> 0.30996606 | R24: =SUM(Q24:Q25) -> 0.33063046
A25: - OHTC | E25: - | F25: - | G25: - | H25: - | I25: - | J25: - | K25: - | L25: - | M25: ='Post Spin Datas'!G5 -> 2 | N25: 60 | O25: =M25*(N25/100) -> 1.2 | P25: =O25*24*(I24/100) -> 27.36 | Q25: =P25/L24 -> 0.020664404
A26: Pre Opener | E26: - | F26: - | G26: - | H26: - | I26: - | J26: - | K26: - | L26: - | M26: - | N26: - | O26: - | Q26: =P26/$B$4 -> 0 | R26: =SUM(Q26:Q32) -> 0
A27: Air Compressor | E27: - | F27: - | G27: - | H27: - | I27: - | J27: - | K27: - | L27: - | M27: - | N27: - | O27: - | Q27: =P27/$B$4 -> 0
A28: Compator Chute Line | E28: - | F28: - | G28: - | H28: - | I28: - | J28: - | K28: - | L28: - | M28: - | N28: - | O28: - | Q28: =P28/$B$4 -> 0
A29: Exhaust | E29: - | F29: - | G29: - | H29: - | I29: - | J29: - | K29: - | L29: - | M29: - | N29: - | O29: - | Q29: =P29/$B$4 -> 0
A30: Lighting | E30: - | F30: - | G30: - | H30: - | I30: - | J30: - | K30: - | L30: - | M30: - | N30: - | O30: - | Q30: =P30/$B$4 -> 0
A31: Well Motor | E31: - | F31: - | G31: - | H31: - | I31: - | J31: - | K31: - | L31: - | M31: - | N31: - | O31: - | Q31: =P31/$B$4 -> 0
A32: Quarters | E32: - | F32: - | G32: - | H32: - | I32: - | J32: - | K32: - | L32: - | M32: - | N32: - | O32: - | Q32: =P32/$B$4 -> 0
A33: Total | R33: =SUM(R16:R32) -> 3.8769356
T62: 58229
