Workbook

Sheet 16S-m-c
A1: AGT Mills
A2: COSTING DETAILS
A3: 16s MODAL/COTTON(50/50) | C3: Waste% | E3: wm | H3: FLEECE | J3: Waste% | L3: wm
B4: Mixing | D4: 100 | E4: =D4/$D$10 -> 1.0689456 | I4: Mixing | K4: 100 | L4: =K4/$K$11 -> 1.4026239
B5: Blow room | C5: 0.3 | D5: =D4-C5 -> 99.7 | E5: =D5/$D$10 -> 1.0657388 | I5: Blow room | J5: 5 | K5: =K4-J5 -> 95 | L5: =K5/$K$11 -> 1.3324927
B6: Carding | C6: 2.5 | D6: =D5-D5*(C6/100) -> 97.2075 | E6: =D6/$D$10 -> 1.0390953 | I6: Carding | J6: 9 | K6: =K5-K5*(J6/100) -> 86.45 | L6: =K6/$K$11 -> 1.2125683
B7: Drawing | C7: 0.5 | D7: =D6-D6*(C7/100) -> 96.721463 | E7: =D7/$D$10 -> 1.0338998 | I7: Comber | J7: 15 | K7: =K6-K6*(J7/100) -> 73.4825 | L7: =K7/$K$11 -> 1.0306831
B8: Simplex | C8: 0.2 | D8: =D7-D7*(C8/100) -> 96.52802 | E8: =D8/$D$10 -> 1.031832 | I8: Drawing | J8: 0.5 | K8: =K7-K7*(J8/100) -> 73.115088 | L8: =K8/$K$11 -> 1.0255297
B9: Spinnig | C9: 2.5 | D9: =D8-D8*(C9/100) -> 94.114819 | E9: =D9/$D$10 -> 1.0060362 | I9: Simplex | J9: 0.2 | K9: =K8-K8*(J9/100) -> 72.968857 | L9: =K9/$K$11 -> 1.0234786
B10: Autoconer | C10: 0.6 | D10: =D9-D9*(C10/100) -> 93.55013 | E10: =D10/$D$10 -> 1 | I10: Spinning | J10: 2 | K10: =K9-K9*(J10/100) -> 71.50948 | L10: =K10/$K$11 -> 1.003009
I11: Autoconer | J11: 0.3 | K11: =K10-K10*(J11/100) -> 71.294952 | L11: =K11/$K$11 -> 1
A12: Mixing | C12: Lap feed line | E12: back tenter | F12: =2*22.5 -> 45 | H12: cotton/lycra
A13: Operative hours | B13: =9*5 -> 45 | C13: Lap wt | D13: 24 | E13: sc tenter | F13: =1*22.5 -> 22.5
A14: kgs | B14: 2000 | C14: Time/Lap | D14: 6 | E14: Lap tier | F14: 22.5 | H14: Mixing | J14: Lap feed line | L14: back tenter | M14: =1*22.5 -> 22.5
A15: HOK | B15: =B13*100*E4/B14 -> 2.4051276 | C15: Eff | D15: 0.85 | E15: sweeper | F15: 22.5 | H15: Bale carrier | I15: =2*8 -> 16 | J15: Lap wt | K15: 26.25 | L15: sc tenter | M15: =1*22.5 -> 22.5
C16: prdn/hr | D16: =2*60*D13*D15/D14 -> 408 | E16: fitter+help | F16: =3*8 -> 24 | H16: kgs | I16: 2000 | J16: Time/Lap | K16: 6 | L16: Lap tier | M16: 0
C17: prdn/day | D17: =B28*D16 -> 6760.56 | F17: =SUM(F12:F16) -> 136.5 | H17: HOK | I17: =I15*100*L4/I16 -> 1.1220991 | J17: Eff | K17: 0.85 | L17: sweeper | M17: 22.5
C18: HP | D18: 98.2 | E18: HOK | F18: =F17*100*E5/D17 -> 2.1517942 | H18: Mix operatives | I18: =11*8 -> 88 | J18: prdn/hr | K18: =60*K15*K17/K16 -> 223.125 | L18: fitter+help | M18: 0
A19: Bale opener HP | B19: 5.25 | C19: units/hr | D19: =D18*0.5*0.9 -> 44.19 | H19: kgs | I19: 2000 | J19: prdn/day | K19: =I30*K18 -> 3697.1813 | M19: =SUM(M14:M18) -> 67.5
A20: Prod/ hr | B20: 500 | H20: HOK | I20: =I18*100*L4/I19 -> 6.171545 | J20: HP | K20: 94.75 | L20: HOK | M20: =M19*100*L5/K19 -> 2.4327521
A21: UKG | B21: =B19*0.5*E4/B20 -> 0.0056119644 | C21: UKG | D21: =D19*B29*E5/D17 -> 0.15673811 | H21: Bale opener HP | I21: 5.25 | J21: units/hr | K21: =K20*0.5*0.8 -> 37.9
A22: Cards | B22: Lap cards | H22: Prod/ hr | I22: 500
A23: Hank | B23: 0.12 | H23: UKG | I23: =I21*0.5*L4/I22 -> 0.0073637752 | J23: UKG | K23: =K21*I31*L5/K19 -> 0.30733768
A24: Mpm | B24: 100 | H24: Cards | I24: Lap cards | K24: SL / RL | L24: sl | M24: rl
A25: Efficiency | B25: 0.85 | H25: Hank | I25: 0.14 | K25: wt/mt | L25: 55 | M25: 57
A26: Prod/card/hr | B26: =B24*1.0936*60*B25*0.4536/(840*B23) -> 25.09812 | H26: Mpm | I26: 110 | K26: mpm | L26: 55 | M26: 55
A27: No of cards | B27: 3 | H27: Efficiency | I27: 0.85 | K27: eff | L27: 0.65 | M27: 0.65
A28: Avg/card/HP | B28: 16.57 | H28: Prod/card/hr | I28: =I26*1.0936*60*I27*0.4536/(840*I25) -> 23.663942 | K28: prdn/hr | L28: =L25*L26*60*L27/1000 -> 117.975 | M28: =M25*M26*60*M27/1000 -> 122.265
A29: Hours/day | B29: 22.5 | H29: No of cards | I29: 3 | K29: HP | L29: 4 | M29: 4
A30: Prod/day | B30: =B29*B26*B27 -> 1694.1231 | H30: Avg/card/HP | I30: 16.57 | K30: units/hr | L30: =L29*0.5*L27 -> 1.3 | M30: =M29*0.5*M27 -> 1.3
A31: Total op hrs | B31: 22.5 | H31: Hours/day | I31: 22.5 | K31: UKG | L31: =L30*L6/L28 -> 0.013361634 | M31: =M30*L6/M28 -> 0.012892805
A32: hok | B32: =B31*100*E7/B30 -> 1.3731438 | H32: Prod/day | I32: =I31*I28*I29 -> 1597.3161 | K32: Comber
A33: Avg Unis/hr/card | B33: =B28*0.55*B25 -> 7.746475 | H33: Total op hrs | I33: 22.5 | K33: npm | L33: 190
A34: UKG | B34: =B33*B27*E7/B30*B29 -> 0.31911072 | H34: hok | I34: =I33*100*L6/I32 -> 1.7080394 | K34: rate of feed | L34: 4.9
A35: Drawing | B35: Breaker | C35: Finisher | H35: Avg Unis/hr/card | I35: =I30*0.5*I27 -> 7.04225 | K35: waste% | L35: 15
A36: Hank | B36: 0.122 | C36: 0.125 | H36: UKG | I36: =I35*I29*L6/I32 -> 0.01603792 | K36: eff | L36: 0.8
A37: Mpm | B37: 220 | C37: 400 | K37: prdn/hr | L37: =L33*L34*L36*60*(100-L35)/100*57*8/1000/1000/1.1 -> 15.746426
A38: Efficiency | B38: 0.85 | C38: 0.85 | K38: prdn/cmr/day | L38: =L37*24 -> 377.91423
A39: Prod/day/m/c | B39: =24*60*B37*1.0936*B38*2*0.4536/(840*B36) -> 2606.9129 | C39: =24*60*C37*1.0936*C38*0.4536/(840*C36) -> 2313.0427 | K39: no.of.cmbr | L39: 5
A40: Tenter Op.hrs | B40: =4*22.5/9 -> 10 | C40: =4*22.5/9 -> 10 | K40: op/hrs | L40: =3*22.5 -> 67.5
A41: Hok | B41: =B40*100*E7/B39 -> 0.39659929 | C41: =C40*100*E7/C39 -> 0.44698691 | K41: hok | L41: =L40*100*L7/L38/L39 -> 3.6818464
A42: Total hok | B42: =B41+C41 -> 0.8435862 | K42: HP/comber | L42: 8
A43: HP | B43: 7.5 | C43: 12.33 | K43: units/hr | L43: =L42*0.5*L36 -> 3.2
A44: Units/m/c/day | B44: =B43*0.5*B38*24 -> 76.5 | C44: =C43*0.5*C38*24 -> 125.766 | K44: UKG | L44: =L43*L7/L37 -> 0.20945615
A45: Ukg | B45: =B44*E7/B39 -> 0.030339846 | C45: =C44*E7/C39 -> 0.056215755
A46: Tot. ukg | B46: =B45+C45 -> 0.086555601
A47: Simplex
A48: Hank | B48: 1 | G48: FLEECE | H48: HOK | I48: =I17+I20+I34+M20+L41 -> 15.116282
A49: Tpi | B49: 0.97 | H49: UKG | I49: =I23+K23+I36+L31+M31+L44 -> 0.56644997
A50: Speed | B50: 595
A51: Sdle/m/c | B51: 120 | G51: MODAL | H51: 0.5
A52: Efficiency | B52: 0.85 | G52: FLEECE | H52: 0.5
A53: Prod/day/m/c | B53: =7.2*B50*B52*B51*3/(B48*B49*1000) -> 1351.4474
A54: Tenter Op.hrs | B54: =7*22.5 -> 157.5
A55: Doffer | B55: =6*22.5 -> 135
A56: Maistry | B56: =1*22.5 -> 22.5
A57: Fitter+Helper | B57: =1*8 -> 8
A58: Can carrier | B58: =1*22.5 -> 22.5
A59: Sweeper | B59: =2*22.5 -> 45
A60: Tot.op.hrs/m/c/day | B60: =SUM(B54:B59) -> 390.5
A61: no.of machines | B61: 7
A62: HOK | B62: =B60/B61*100*E8/B53 -> 4.2592472
A63: HP | B63: 12.62
A64: Units/m/c/day | B64: =B63*0.5*24*B52 -> 128.724
A65: UKG | B65: =B64*E8/B53 -> 0.098280956
A66: Hok upto simplex | B66: =B15+B18+F18+B32+B42+B62+(H52*I48) -> 18.59104
A67: Ukg upto simplex | B67: =B21+D21+B34+B46+B65+(I49*H52) -> 0.94952234
A69: RING FRAME | B69: 16s M/C
A70: Actual count | B70: 16
A71: TPI | B71: 15.34
A72: Speed | B72: 11275
A73: Efficiency | B73: 0.925
A74: Eff(d) | B74: 0.955
A75: Ps =STD GPS | B75: =7.2*B72*B73/(B70*B71) -> 305.94646
A76: Factor | B76: 0.95
A77: Watts/spdl. | B77: =B76*(7.5+80/B70+500/B71/B71)*(B72/10000)*(B72/10000) -> 17.662282
A78: V1 =R/F UKG | B78: =B77*8*$E$9/B75 -> 0.46462758
A79: Pn +OHTC H.P | B79: 9.6
A80: V2 (Pn+ohtc) | B80: =B79*0.55*24*0.98/(1.008*B75*3)*$E$9 -> 0.13503851
A81: Units/day
A82: Lighting | B82: 900
A83: Compressor | B83: 1440
A84: Plant & Exhaust | B84: 2460
A85: Workshop | B85: 50
A86: Borewell, canteen | B86: 50
A87: Total | B87: =SUM(B82:B86) -> 4900
A88: Total spdle. | B88: 18144
A89: Utli. | B89: 0.9655
A90: Units/1000/spdles | B90: =B87*1000/(B88*3*B89) -> 93.237262
A91: V2 (L+C+Plant+etc. | B91: =B90*$E$9/B75 -> 0.30658979
A92: V2 | B92: =(B91+B80) -> 0.4416283
A93: Spdle/tenter | B93: =3*504 -> 1512
A94: Tenter hok | B94: =7.5*100*$E$9/(B93*B75/1000)*7/6 -> 1.9029371
A95: Pro./day | B95: 7850
A96: Doffer op.hrs/day | B96: =12*22.5 -> 270
A97: Doffer hok | B97: =B96*100*$E$9/B95 -> 3.460252
A98: Others
A99: Maistry | B99: =1*22.5 -> 22.5
A100: Doffing maistry | B100: =1*22.5 -> 22.5
A101: Bobbin carrier | B101: =3*22.5 -> 67.5
...

Sheet 80s Mic.Modal
A1: AGT Mills
A2: COSTING DETAILS
A3: 2/80s Micro Modal | C3: Waste% | E3: wm
B4: Mixing | D4: 100 | E4: =D4/$D$10 -> 1.0689456
B5: Blow room | C5: 0.3 | D5: =D4-C5 -> 99.7 | E5: =D5/$D$10 -> 1.0657388
B6: Carding | C6: 2.5 | D6: =D5-D5*(C6/100) -> 97.2075 | E6: =D6/$D$10 -> 1.0390953
B7: Drawing | C7: 0.5 | D7: =D6-D6*(C7/100) -> 96.721463 | E7: =D7/$D$10 -> 1.0338998
B8: Simplex | C8: 0.2 | D8: =D7-D7*(C8/100) -> 96.52802 | E8: =D8/$D$10 -> 1.031832
B9: Spinnig | C9: 2.5 | D9: =D8-D8*(C9/100) -> 94.114819 | E9: =D9/$D$10 -> 1.0060362
B10: Autoconer | C10: 0.6 | D10: =D9-D9*(C10/100) -> 93.55013 | E10: =D10/$D$10 -> 1
A12: Mixing | C12: Lap feed line | E12: back tenter | F12: =2*22.5 -> 45
A13: Bale carrier | B13: =5*8 -> 40 | C13: Lap wt | D13: 26.25 | E13: sc tenter | F13: =1*22.5 -> 22.5
A14: kgs | B14: 9000 | C14: Time/Lap | D14: 6 | E14: Lap tier | F14: 22.5
A15: HOK | B15: =B13*100*E4/B14 -> 0.47508693 | C15: Eff | D15: 0.85 | E15: sweeper | F15: 22.5
A16: Mix operatives | B16: =15*8 -> 120 | C16: prdn/hr | D16: =2*60*D13*D15/D14 -> 446.25 | E16: fitter+help | F16: =3*8 -> 24
A17: kgs | B17: 9000 | C17: prdn/day | D17: =B28*D16 -> 7394.3625 | F17: =SUM(F12:F16) -> 136.5
A18: HOK | B18: =B16*100*E4/B17 -> 1.4252608 | C18: HP | D18: 98.2 | E18: HOK | F18: =F17*100*E5/D17 -> 1.9673547
A19: Bale opener HP | B19: 5.25 | C19: units/hr | D19: =D18*0.5*0.9 -> 44.19
A20: Prod/ hr | B20: 500
A21: UKG | B21: =B19*0.5*E4/B20 -> 0.0056119644 | C21: UKG | D21: =D19*B29*E5/D17 -> 0.14330342
A22: Cards | B22: Lap cards
A23: Hank | B23: 0.18
A24: Mpm | B24: 80
A25: Efficiency | B25: 0.85
A26: Prod/card/hr | B26: =B24*1.0936*60*B25*0.4536/(840*B23) -> 13.385664
A27: No of cards | B27: 4
A28: Avg/card/HP | B28: 16.57
A29: Hours/day | B29: 22.5
A30: Prod/day | B30: =B29*B26*B27 -> 1204.7098
A31: Total op hrs | B31: 22.5
A32: hok | B32: =B31*100*E5/B30 -> 1.9904481
A33: Avg Unis/hr/card | B33: =B28*0.55*B25 -> 7.746475
A34: UKG | B34: =B33*B27*E5/B30*B29 -> 0.61675825
A35: Drawing | B35: Breaker | C35: Finisher
A36: Hank | B36: 0.19 | C36: 0.2
A37: Mpm | B37: 220 | C37: 400
A38: Efficiency | B38: 0.85 | C38: 0.85
A39: Prod/day/m/c | B39: =24*60*B37*1.0936*B38*2*0.4536/(840*B36) -> 1673.9125 | C39: =24*60*C37*1.0936*C38*0.4536/(840*C36) -> 1445.6517
A40: Tenter Op.hrs | B40: =4*22.5/9 -> 10 | C40: =4*22.5/9 -> 10
A41: Hok | B41: =B40*100*E7/B39 -> 0.61765463 | C41: =C40*100*E7/C39 -> 0.71517905
A42: Total hok | B42: =B41+C41 -> 1.3328337
A43: HP | B43: 7.5 | C43: 12.33
A44: Units/m/c/day | B44: =B43*0.5*B38*24 -> 76.5 | C44: =C43*0.5*C38*24 -> 125.766
A45: Ukg | B45: =B44*E7/B39 -> 0.047250579 | C45: =C44*E7/C39 -> 0.089945208
A46: Tot. ukg | B46: =B45+C45 -> 0.13719579
A47: Simplex
A48: Hank | B48: 2
A49: Tpi | B49: 1.042
A50: Speed | B50: 630
A51: Sdle/m/c | B51: 120
A52: Efficiency | B52: 0.85
A53: Prod/day/m/c | B53: =7.2*B50*B52*B51*3/(B48*B49*1000) -> 666.03455
A54: Tenter Op.hrs | B54: =7*22.5 -> 157.5
A55: Doffer | B55: =6*22.5 -> 135
A56: Maistry | B56: =1*22.5 -> 22.5
A57: Fitter+Helper | B57: =1*8 -> 8
A58: Can carrier | B58: =1*22.5 -> 22.5
A59: Sweeper | B59: =2*22.5 -> 45
A60: Tot.op.hrs/m/c/day | B60: =SUM(B54:B59) -> 390.5
A61: no.of machines | B61: 7
A62: HOK | B62: =B60/B61*100*E8/B53 -> 8.6424175
A63: HP | B63: 12.62
A64: Units/m/c/day | B64: =B63*0.5*24*B52 -> 128.724
A65: UKG | B65: =B64*E8/B53 -> 0.1994214
A66: Hok upto simplex | B66: =B15+B18+B32+B42+B62+F18 -> 15.833402
A67: Ukg upto simplex | B67: =B21+B34+B46+B65+D21 -> 1.1022908
A69: RING FRAME | B69: 80s Micro Modal
A70: Actual count | B70: 80
A71: TPI | B71: 31.69 | C71: Micro Modal
A72: Speed | B72: 14775
A73: Efficiency | B73: 0.98
A74: Eff(d) | B74: 0.975
A75: Ps =STD GPS | B75: =7.2*B72*B73/(B70*B71) -> 41.121963
A76: Factor | B76: 0.95
A77: Watts/spdl. | B77: =B76*(7.5+80/B70+500/B71/B71)*(B72/10000)*(B72/10000) -> 18.660309
A78: V1 =R/F UKG | B78: =B77*8*$E$9/B75 -> 3.6521499
A79: Pn +OHTC H.P | B79: 9.6
A80: V2 (Pn+ohtc) | B80: =B79*0.55*24*0.98/(1.008*B75*3)*$E$9 -> 1.0046834
A81: Units/day
A82: Lighting | B82: 900
A83: Compressor | B83: 1440
A84: Plant & Exhaust | B84: 2460
A85: Workshop | B85: 50
A86: Borewell, canteen | B86: 50
A87: Total | B87: =SUM(B82:B86) -> 4900
A88: Total spdle. | B88: 18144
A89: Utli. | B89: 0.949
A90: Units/1000/spdles | B90: =B87*1000/(B88*3*B89) -> 94.858352
A91: V2 (L+C+Plant+etc. | B91: =B90*$E$9/B75 -> 2.3206805
A92: V2 | B92: =(B91+B80) -> 3.3253639
A93: Spdle/tenter | B93: =3*504 -> 1512
A94: Tenter hok | B94: =7.5*100*$E$9/(B93*B75/1000)*7/6 -> 14.157809
A95: Pro./day | B95: 8400
A96: Doffer op.hrs/day | B96: =12*22.5 -> 270
A97: Doffer hok | B97: =B96*100*$E$9/B95 -> 3.2336878
A98: Others
A99: Maistry | B99: =1*22.5 -> 22.5
A100: Doffing maistry | B100: =1*22.5 -> 22.5
A101: Bobbin carrier | B101: =3*22.5 -> 67.5
A102: Running clg | B102: =12*8 -> 96
...

Sheet 20S (2)
A1: AGT Mills
A2: COSTING DETAILS
A3: 20s VSF | C3: Waste% | E3: wm
B4: Mixing | D4: 100 | E4: =D4/$D$12 -> 1.0732342
B5: Blow room | C5: 0.3 | D5: =D4-C5 -> 99.7 | E5: =D5/$D$12 -> 1.0700145
B6: Carding | C6: 2.5 | D6: =D5-D5*(C6/100) -> 97.2075 | E6: =D6/$D$12 -> 1.0432642
B7: Drawing | C7: 0.5 | D7: =D6-D6*(C7/100) -> 96.721463 | E7: =D7/$D$12 -> 1.0380479
B8: Simplex | C8: 0.2 | D8: =D7-D7*(C8/100) -> 96.52802 | E8: =D8/$D$12 -> 1.0359718
B9: Spinnig | C9: 2.5 | D9: =D8-D8*(C9/100) -> 94.114819 | E9: =D9/$D$12 -> 1.0100725
B10: Autoconer | C10: 0.6 | D10: =D9-D9*(C10/100) -> 93.55013 | E10: =D10/$D$12 -> 1.004012
B11: Doubler winding | C11: 0.2 | D11: =D10-D10*(C11/100) -> 93.36303 | E11: =D11/$D$12 -> 1.002004
B12: TFO | C12: 0.2 | D12: =D11-D11*(C12/100) -> 93.176304 | E12: =D12/$D$12 -> 1
A14: Mixing | C14: Lap feed line | E14: back tenter | F14: =2*22.5 -> 45
A15: Bale carrier | B15: =5*8 -> 40 | C15: Lap wt | D15: 26.25 | E15: sc tenter | F15: =1*22.5 -> 22.5
A16: kgs | B16: 9000 | C16: Time/Lap | D16: 6 | E16: Lap tier | F16: 22.5
A17: HOK | B17: =B15*100*E4/B16 -> 0.476993 | C17: Eff | D17: 0.85 | E17: sweeper | F17: 22.5
A18: Mix operatives | B18: =15*8 -> 120 | C18: prdn/hr | D18: =2*60*D15*D17/D16 -> 446.25 | E18: fitter+help | F18: =3*8 -> 24
A19: kgs | B19: 9000 | C19: prdn/day | D19: =B30*D18 -> 7394.3625 | F19: =SUM(F14:F18) -> 136.5
A20: HOK | B20: =B18*100*E4/B19 -> 1.430979 | C20: HP | D20: 98.2 | E20: HOK | F20: =F19*100*E5/D19 -> 1.9752478
A21: Bale opener HP | B21: 5.25 | C21: units/hr | D21: =D20*0.5*0.9 -> 44.19
A22: Prod/ hr | B22: 500
A23: UKG | B23: =B21*0.5*E4/B22 -> 0.0056344798 | C23: UKG | D23: =D21*B31*E5/D19 -> 0.14387835
A24: Cards | B24: Lap cards
A25: Hank | B25: 0.18
A26: Mpm | B26: 80
A27: Efficiency | B27: 0.85
A28: Prod/card/hr | B28: =B26*1.0936*60*B27*0.4536/(840*B25) -> 13.385664
A29: No of cards | B29: 4
A30: Avg/card/HP | B30: 16.57
A31: Hours/day | B31: 22.5
A32: Prod/day | B32: =B31*B28*B29 -> 1204.7098
A33: Total op hrs | B33: 22.5
A34: hok | B34: =B33*100*E7/B32 -> 1.9387306
A35: Avg Unis/hr/card | B35: =B30*0.55*B27 -> 7.746475
A36: UKG | B36: =B35*B29*E7/B32*B31 -> 0.60073313
A37: Drawing | B37: Breaker | C37: Finisher
A38: Hank | B38: 0.105 | C38: 0.11
A39: Mpm | B39: 220 | C39: 400
A40: Efficiency | B40: 0.85 | C40: 0.85
A41: Prod/day/m/c | B41: =24*60*B39*1.0936*B40*2*0.4536/(840*B38) -> 3028.9845 | C41: =24*60*C39*1.0936*C40*0.4536/(840*C38) -> 2628.4577
A42: Tenter Op.hrs | B42: =4*22.5/9 -> 10 | C42: =4*22.5/9 -> 10
A43: Hok | B43: =B42*100*E7/B41 -> 0.3427049 | C43: =C42*100*E7/C41 -> 0.3949266
A44: Total hok | B44: =B43+C43 -> 0.73763151
A45: HP | B45: 7.5 | C45: 12.33
A46: Units/m/c/day | B46: =B45*0.5*B40*24 -> 76.5 | C46: =C45*0.5*C40*24 -> 125.766
A47: Ukg | B47: =B46*E7/B41 -> 0.026216925 | C47: =C46*E7/C41 -> 0.049668339
A48: Tot. ukg | B48: =B47+C47 -> 0.075885264
A49: Simplex
A50: Hank | B50: 0.9
A51: Tpi | B51: 0.755
A52: Speed | B52: 950
A53: Sdle/m/c | B53: 120
A54: Efficiency | B54: 0.85
A55: Prod/day/m/c | B55: =7.2*B52*B54*B53*3/(B50*B51*1000) -> 3080.2649
A56: Tenter Op.hrs | B56: =7*22.5 -> 157.5
A57: Doffer | B57: =6*22.5 -> 135
A58: Maistry | B58: =1*22.5 -> 22.5
A59: Fitter+Helper | B59: =1*8 -> 8
A60: Can carrier | B60: =1*22.5 -> 22.5
A61: Sweeper | B61: =2*22.5 -> 45
A62: Tot.op.hrs/m/c/day | B62: =SUM(B56:B61) -> 390.5
A63: no.of machines | B63: 7
A64: HOK | B64: =B62/B63*100*E8/B55 -> 1.8762161
A65: HP | B65: 12.62
A66: Units/m/c/day | B66: =B65*0.5*24*B54 -> 128.724
A67: UKG | B67: =B66*E8/B55 -> 0.043293169
A68: Hok upto simplex | B68: =B17+B20+F20+B34+B44+B64 -> 8.435798
A69: Ukg upto simplex | B69: =B23+D23+B36+B48+B67 -> 0.86942439
A71: RING FRAME | B71: 20s SF
A72: Actual count | B72: 20
A73: TPI | B73: 14.97
A74: Speed | B74: 12775
A75: Efficiency | B75: 0.925
A76: Eff(d) | B76: 0.955
A77: Ps =STD GPS | B77: =7.2*B74*B75/(B72*B73) -> 284.17335
A78: Factor | B78: 0.95
A79: Watts/spdl. | B79: =B78*(7.5+80/B72+500/B73/B73)*(B74/10000)*(B74/10000) -> 21.288838
A80: V1 =R/F UKG | B80: =B79*8*$E$9/B77 -> 0.60535639
A81: Pn +OHTC H.P | B81: 9.6
A82: V2 (Pn+ohtc) | B82: =B81*0.55*24*0.98/(1.008*B77*3)*$E$9 -> 0.14596833
A83: Units/day
A84: Lighting | B84: 900
A85: Compressor | B85: 1440
A86: Plant & Exhaust | B86: 2460
A87: Workshop | B87: 50
A88: Borewell, canteen | B88: 50
A89: Total | B89: =SUM(B84:B88) -> 4900
A90: Total spdle. | B90: 18144
A91: Utli. | B91: 0.948
A92: Units/1000/spdles | B92: =B89*1000/(B90*3*B91) -> 94.958414
A93: V2 (L+C+Plant+etc. | B93: =B92*$E$9/B77 -> 0.33752243
A94: V2 | B94: =(B93+B82) -> 0.48349076
A95: Spdle/tenter | B95: =3*504 -> 1512
A96: Tenter hok | B96: =7.5*100*$E$9/(B95*B77/1000)*7/6 -> 2.0569581
A97: Pro./day | B97: 8400
A98: Doffer op.hrs/day | B98: =12*22.5 -> 270
A99: Doffer hok | B99: =B98*100*$E$9/B97 -> 3.2466615
A100: Others
A101: Maistry | B101: =1*22.5 -> 22.5
A102: Doffing maistry | B102: =1*22.5 -> 22.5
...

Sheet o.e-(K)
A1: AGT Mills
A2: COSTING DETAILS
A3: open end | C3: Waste% | E3: wm
B4: Mixing | D4: 100 | E4: =D4/$D$8 -> 1.1249744
B5: Blow room | C5: 4 | D5: =D4-C5 -> 96 | E5: =D5/$D$8 -> 1.0799754
B6: Carding | C6: 6 | D6: =D5-D5*(C6/100) -> 90.24 | E6: =D6/$D$8 -> 1.0151769
B7: Drawing | C7: 0.5 | D7: =D6-D6*(C7/100) -> 89.7888 | E7: =D7/$D$8 -> 1.010101
B8: O.E | C8: 1 | D8: =D7-D7*(C8/100) -> 88.890912 | E8: =D8/$D$8 -> 1
A11: Mixing | C11: Lap feed line | E11: back tenter | F11: =2*22.5 -> 45
A12: Bale carrier | B12: =5*8 -> 40 | C12: Lap wt | D12: 26.25 | E12: sc tenter | F12: =1*22.5 -> 22.5
A13: kgs | B13: 11500 | C13: Time/Lap | D13: 6 | E13: Lap tier | F13: 22.5
A14: HOK | B14: =B12*100*E4/B13 -> 0.39129544 | C14: Eff | D14: 0.85 | E14: sweeper | F14: 22.5
A15: Mix operatives | B15: =15*8 -> 120 | C15: prdn/hr | D15: =2*60*D12*D14/D13 -> 446.25 | E15: fitter+help | F15: =3*8 -> 24
A16: kgs | B16: 11500 | C16: prdn/day | D16: =B27*D15 -> 7394.3625 | F16: =SUM(F11:F15) -> 136.5
A17: HOK | B17: =B15*100*E4/B16 -> 1.1738863 | C17: HP | D17: 94.75 | E17: HOK | F17: =F16*100*E4/D16 -> 2.0767038
A18: Bale opener HP | B18: 5.25 | C18: units/hr | D18: =D17*0.5*0.9 -> 42.6375
A19: Prod/ hr | B19: 500
A20: UKG | B20: =B18*0.5*E4/B19 -> 0.0059061156 | C20: UKG | D20: =D18*B28*E5/D16 -> 0.14011589
A21: Cards | B21: Lap cards
A22: Hank | B22: 0.14
A23: Mpm | B23: 130
A24: Efficiency | B24: 0.85
A25: Prod/card/hr | B25: =B23*1.0936*60*B24*0.4536/(840*B22) -> 27.966477
A26: No of cards | B26: 7
A27: Avg/card/HP | B27: 16.57
A28: Hours/day | B28: 22.5
A29: Prod/day | B29: =B28*B25*B26 -> 4404.7201
A30: Total op hrs | B30: 22.5
A31: hok | B31: =B30*100*E6/B29 -> 0.51856826
A32: Avg Unis/hr/card | B32: =B27*0.55*B24 -> 7.746475
A33: UKG | B33: =B32*B26*E6/B29*B28 -> 0.28119532
A34: Drawing | B34: Finisher
A35: Hank | B35: 0.14
A36: Mpm | B36: 450
A37: Efficiency | B37: 0.85
A38: Prod/day/m/c | B38: =24*60*B36*1.0936*B37*0.4536/(840*B35) -> 2323.3688
A39: Tenter Op.hrs | B39: =22.5/2 -> 11.25
A40: Hok | B40: =B39*100*E7/B38 -> 0.4891017
A41: HP | B41: 12.33
A42: Units/m/c/day | B42: =B41*0.5*B37*24 -> 125.766
A43: Ukg | B43: =B42*E7/B38 -> 0.054677657
A44: Hok upto drawing | B44: =B14+B17+F17+B31+B40 -> 4.6495555
A45: Ukg upto drawing | B45: =B20+D20+B33+B43 -> 0.48189498
A46: OPEN END
A47: count | B47: 32s O.E
A48: Actual count | B48: 32
A49: TPI | B49: 28
A50: Speed | B50: 110000
A51: Efficiency | B51: 0.957
A52: Ps =STD GPS | B52: =7.2*B50*B51/(B48*B49) -> 845.91964
A53: no.of.rotors/m/c | B53: 316
A54: units/m/c/hr | B54: 75
A55: V1 =O.E UKG | B55: =B54/(B53*B52/1000)*8 -> 2.2445798
A56: Units/day
A57: Lighting | B57: 100
A58: Plant & Exhaust | B58: 780
A59: Total | B59: =SUM(B57:B58) -> 880
A60: Total rotors | B60: 1264
A61: Utli. | B61: 0.942
A62: Units/1000/rotors | B62: =B59*1000/(B60*3*B61) -> 246.35617
A63: V2 | B63: =B62/B52 -> 0.29122881
A64: Sider | B64: =8*22.5 -> 180
A65: Fitter+helper | B65: =2*8 -> 16
A66: cleaning | B66: =2*8 -> 16
A67: Sweeper | B67: =1*22.5 -> 22.5
A68: Cheese carrier | B68: =1*22.5 -> 22.5
A69: Maistry | B69: =1*22.5 -> 22.5
A70: Can carrier | B70: =1*22.5 -> 22.5
A71: Electrical | B71: =58*0.2 -> 11.6
A72: Security persons | B72: =9*8*0.2 -> 14.4
A73: Scavanger | B73: =1*8*0.2 -> 1.6
A74: Gardener | B74: =1*8*0.2 -> 1.6
A75: Work shop | B75: =2*8*0.2 -> 3.2
A76: Canteen | B76: =4*8*0.2 -> 6.4
A77: Total operative hrs | B77: =SUM(B64:B76) -> 340.8
A78: Others/1000 rotor/shift | B78: =B77*1000/(B60*3*B61) -> 95.407025
A79: Others hok | B79: =B78*100*$E$8/B52 -> 11.278497
A81: Packing
A82: Pallet wt.
A83: no.of.operative hrs/pallet
A84: hok
A85: Bag wt. | B85: 60
A86: no.of.bags/operative | B86: 20
A87: hok | B87: =8*100/B85/B86 -> 0.66666667
A88: Kgs checked | B88: 3200
A89: operative hours | B89: =3*8 -> 24
A90: hok | B90: =B89*100/B88 -> 0.75
A91: Lable pasting kgs | B91: 12000
A92: operative hours | B92: =4*8 -> 32
A93: Hok | B93: =B92*100/B91 -> 0.26666667
A94: Hok | B94: =B84+B87+B90+B93 -> 1.6833333
A97: Count | B97: =B47 -> 32s O.E
A98: Ps | B98: =B52 -> 845.91964
A99: V1 | B99: =B55 -> 2.2445798
A100: V2 | B100: =B63 -> 0.29122881
A101: Fixed ukg | B101: =B45 -> 0.48189498
A102: HOK upto spg | B102: =B44+B79 -> 15.928053
A103: Packing hok | B103: =B94 -> 1.6833333
A104: Packing cost/kgs

Sheet 30s o.e-(K) (3)
A1: AGT Mills
A2: COSTING DETAILS
A3: open end | C3: Waste% | E3: wm
B4: Mixing | D4: 100 | E4: =D4/$D$8 -> 1.1249744
B5: Blow room | C5: 4 | D5: =D4-C5 -> 96 | E5: =D5/$D$8 -> 1.0799754
B6: Carding | C6: 6 | D6: =D5-D5*(C6/100) -> 90.24 | E6: =D6/$D$8 -> 1.0151769
B7: Drawing | C7: 0.5 | D7: =D6-D6*(C7/100) -> 89.7888 | E7: =D7/$D$8 -> 1.010101
B8: O.E | C8: 1 | D8: =D7-D7*(C8/100) -> 88.890912 | E8: =D8/$D$8 -> 1
A11: Mixing | C11: Lap feed line | E11: back tenter | F11: =2*22.5 -> 45
A12: Bale carrier | B12: =5*8 -> 40 | C12: Lap wt | D12: 26.25 | E12: sc tenter | F12: =1*22.5 -> 22.5
A13: kgs | B13: 11500 | C13: Time/Lap | D13: 6 | E13: Lap tier | F13: 22.5
A14: HOK | B14: =B12*100*E4/B13 -> 0.39129544 | C14: Eff | D14: 0.85 | E14: sweeper | F14: 22.5
A15: Mix operatives | B15: =15*8 -> 120 | C15: prdn/hr | D15: =2*60*D12*D14/D13 -> 446.25 | E15: fitter+help | F15: =3*8 -> 24
A16: kgs | B16: 11500 | C16: prdn/day | D16: =B27*D15 -> 7394.3625 | F16: =SUM(F11:F15) -> 136.5
A17: HOK | B17: =B15*100*E4/B16 -> 1.1738863 | C17: HP | D17: 94.75 | E17: HOK | F17: =F16*100*E4/D16 -> 2.0767038
A18: Bale opener HP | B18: 5.25 | C18: units/hr | D18: =D17*0.5*0.9 -> 42.6375
A19: Prod/ hr | B19: 500
A20: UKG | B20: =B18*0.5*E4/B19 -> 0.0059061156 | C20: UKG | D20: =D18*B28*E5/D16 -> 0.14011589
A21: Cards | B21: Lap cards
A22: Hank | B22: 0.13
A23: Mpm | B23: 120
A24: Efficiency | B24: 0.8
A25: Prod/card/hr | B25: =B23*1.0936*60*B24*0.4536/(840*B22) -> 26.165642
A26: No of cards | B26: 7
A27: Avg/card/HP | B27: 16.57
A28: Hours/day | B28: 22.5
A29: Prod/day | B29: =B28*B25*B26 -> 4121.0886
A30: Total op hrs | B30: 22.5
A31: hok | B31: =B30*100*E6/B29 -> 0.55425841
A32: Avg Unis/hr/card | B32: =B27*0.55*B24 -> 7.2908
A33: UKG | B33: =B32*B26*E6/B29*B28 -> 0.28286911
A34: Drawing | B34: Finisher
A35: Hank | B35: 0.13
A36: Mpm | B36: 450
A37: Efficiency | B37: 0.8
A38: Prod/day/m/c | B38: =24*60*B36*1.0936*B37*0.4536/(840*B35) -> 2354.9078
A39: Tenter Op.hrs | B39: =22.5/2 -> 11.25
A40: Hok | B40: =B39*100*E7/B38 -> 0.48255123
A41: HP | B41: 12.33
A42: Units/m/c/day | B42: =B41*0.5*B37*24 -> 118.368
A43: Ukg | B43: =B42*E7/B38 -> 0.05077211
A44: Hok upto drawing | B44: =B14+B17+F17+B31+B40 -> 4.6786952
A45: Ukg upto drawing | B45: =B20+D20+B33+B43 -> 0.47966322
A46: OPEN END
A47: count | B47: 30s O.E II Q | C47: 31s O.E II Q
A48: Actual count | B48: 30 | C48: 31
A49: TPI | B49: 28.5 | C49: 29
A50: Speed | B50: 100000 | C50: 100000
A51: Efficiency | B51: 0.95 | C51: 0.95
A52: Ps =STD GPS | B52: =7.2*B50*B51/(B48*B49) -> 800 | C52: =7.2*C50*C51/(C48*C49) -> 760.84538
A53: no.of.rotors/m/c | B53: 320 | C53: 320
A54: units/m/c/hr | B54: 68.18 | C54: 68.18
A55: V1 =O.E UKG | B55: =B54/(B53*B52/1000)*8 -> 2.130625 | C55: =C54/(C53*C52/1000)*8 -> 2.2402712
A56: Units/day
A57: Lighting | B57: 100 | C57: 100
A58: Plant & Exhaust | B58: 780 | C58: 780
A59: Total | B59: =SUM(B57:B58) -> 880 | C59: =SUM(C57:C58) -> 880
A60: Total rotors | B60: 1264 | C60: 1264
A61: Utli. | B61: 0.942 | C61: 0.942
A62: Units/1000/rotors | B62: =B59*1000/(B60*3*B61) -> 246.35617 | C62: =C59*1000/(C60*3*C61) -> 246.35617
A63: V2 | B63: =B62/B52 -> 0.30794521 | C63: =C62/C52 -> 0.32379268
A64: Sider | B64: =8*22.5 -> 180 | C64: =8*22.5 -> 180
A65: Fitter+helper | B65: =2*8 -> 16 | C65: =2*8 -> 16
A66: cleaning | B66: =2*8 -> 16 | C66: =2*8 -> 16
A67: Sweeper | B67: =1*22.5 -> 22.5 | C67: =1*22.5 -> 22.5
A68: Cheese carrier | B68: =1*22.5 -> 22.5 | C68: =1*22.5 -> 22.5
A69: Maistry | B69: =1*22.5 -> 22.5 | C69: =1*22.5 -> 22.5
A70: Can carrier | B70: =1*22.5 -> 22.5 | C70: =1*22.5 -> 22.5
A71: Electrical | B71: =58*0.2 -> 11.6 | C71: =58*0.2 -> 11.6
A72: Security persons | B72: =9*8*0.2 -> 14.4 | C72: =9*8*0.2 -> 14.4
A73: Scavanger | B73: =1*8*0.2 -> 1.6 | C73: =1*8*0.2 -> 1.6
A74: Gardener | B74: =1*8*0.2 -> 1.6 | C74: =1*8*0.2 -> 1.6
A75: Work shop | B75: =2*8*0.2 -> 3.2 | C75: =2*8*0.2 -> 3.2
A76: Canteen | B76: =4*8*0.2 -> 6.4 | C76: =4*8*0.2 -> 6.4
A77: Total operative hrs | B77: =SUM(B64:B76) -> 340.8 | C77: =SUM(C64:C76) -> 340.8
A78: Others/1000 rotor/shift | B78: =B77*1000/(B60*3*B61) -> 95.407025 | C78: =C77*1000/(C60*3*C61) -> 95.407025
A79: Others hok | B79: =B78*100*$E$8/B52 -> 11.925878 | C79: =C78*100*$E$8/C52 -> 12.539608
A81: Packing
A82: Pallet wt.
A83: no.of.operative hrs/pallet
A84: hok
A85: Bag wt. | B85: 60 | C85: 60
A86: no.of.bags/operative | B86: 20 | C86: 20
A87: hok | B87: =8*100/B85/B86 -> 0.66666667 | C87: =8*100/C85/C86 -> 0.66666667
A88: Kgs checked | B88: 3200 | C88: 3200
A89: operative hours | B89: =3*8 -> 24 | C89: =3*8 -> 24
A90: hok | B90: =B89*100/B88 -> 0.75 | C90: =C89*100/C88 -> 0.75
A91: Lable pasting kgs | B91: 12000 | C91: 12000
A92: operative hours | B92: =4*8 -> 32 | C92: =4*8 -> 32
A93: Hok | B93: =B92*100/B91 -> 0.26666667 | C93: =C92*100/C91 -> 0.26666667
A94: Hok | B94: =B84+B87+B90+B93 -> 1.6833333 | C94: =C84+C87+C90+C93 -> 1.6833333
A97: Count | B97: =B47 -> 30s O.E II Q | C97: =C47 -> 31s O.E II Q
A98: Ps | B98: =B52 -> 800 | C98: =C52 -> 760.84538
A99: V1 | B99: =B55 -> 2.130625 | C99: =C55 -> 2.2402712
A100: V2 | B100: =B63 -> 0.30794521 | C100: =C63 -> 0.32379268
A101: Fixed ukg | B101: =B45 -> 0.47966322 | C101: =C45 -> 0
A102: HOK upto spg | B102: =B44+B79 -> 16.604573 | C102: =C44+C79 -> 12.539608
A103: Packing hok | B103: =B94 -> 1.6833333 | C103: =C94 -> 1.6833333
A104: Packing cost/kgs

Sheet UKG
A1: EXPECTED UKG - NE 40/1 KW (SAMPLE)
A2: Date | C2: =TODAY() -> 45588
A3: Total Spindles | C3: 14832
A4: Allotted Spindles | C4: =Spin!C23 -> 14832
A5: No.of RFs | C5: =Spin!B22 -> 13
A6: Kgs / Day | C6: =K26*C5 -> 4990.2888
A8: Count Contribution | C8: =C4*100/C3 -> 100
A12: Department | J12: Mixing | K12: Blow Room | L12: Carding | M12: Drawing Br | N12: Drawing Fr | O12: Simplex | P12: Spinning | Q12: Auto Coner
A13: Waste % | J13: - | K13: 3.5 | L13: 7.5 | M13: 0.5 | N13: 0.25 | O13: 0.25 | P13: 1.5 | Q13: 0.25
A14: YR % ( For UKG Calculation only ) | J14: 100 | K14: =J14-(J14*(K13/100)) -> 96.5 | L14: =K14-(K14*(L13/100)) -> 89.2625 | M14: =L14-(L14*(M13/100)) -> 88.816187 | N14: =M14-(M14*(N13/100)) -> 88.594147 | O14: =N14-(N14*(O13/100)) -> 88.372662 | P14: =O14-(O14*(P13/100)) -> 87.047072 | Q14: =P14-(P14*(Q13/100)) -> 86.829454
A15: Wm | J15: =J14/$Q$14 -> 1.1516829 | K15: =K14/$Q$14 -> 1.111374 | L15: =L14/$Q$14 -> 1.028021 | M15: =M14/$Q$14 -> 1.0228809 | N15: =N14/$Q$14 -> 1.0203237 | O15: =O14/$Q$14 -> 1.0177729 | P15: =P14/$Q$14 -> 1.0025063 | Q15: =Q14/$Q$14 -> 1
A17: Department | D17: Count | E17: MPM | F17: Eff % | G17: Kgs / Hr | H17: Utili % | I17: Kgs / Day | J17: No.of | K17: Total Kgs | L17: Motor | N17: Units / | O17: Units / Day | P17: UKG
J18: Delivery | K18: per Day | L18: KW | M18: Eff % | N18: Hour | O18: @ Utili | P18: Individual | Q18: Overall
A19: Pre Opener | D19: - | E19: - | F19: - | G19: =Prep!H3 -> 500 | H19: =Prep!I3 -> 95 | I19: =G19*24*(H19/100) -> 11400 | J19: 1 | K19: =I19*J19 -> 11400 | L19: =Prep!J3 -> 5 | M19: =Prep!K3 -> 50 | N19: =L19*(M19/100) -> 2.5 | O19: =N19*24*(H19/100) -> 57 | P19: =(O19/K19)*J15 -> 0.0057584146 | Q19: =SUM(P19:P25) -> 0.63580709
A20: Blow Room | D20: =Prep!D10 -> 0.0012 | E20: =Prep!G10 -> 10.2 | F20: =Prep!H10 -> 99 | G20: =E20*60*(F20/100)/(768*D20*2.2045) -> 298.21813 | H20: =Prep!I10 -> 95 | I20: =G20*24*(H20/100) -> 6799.3734 | J20: =Prep!C10 -> 1 | K20: =I20*J20 -> 6799.3734 | L20: =Prep!J10 -> 82.54 | M20: =Prep!K10 -> 60 | N20: =L20*(M20/100) -> 49.524 | O20: =N20*24*(H20/100) -> 1129.1472 | P20: =(O20/K20)*K15 -> 0.18456184
A21: Carding | D21: =Prep!D18 -> 0.12 | E21: =Prep!G18 -> 130 | F21: =Prep!H18 -> 99 | G21: =E21*60*(F21/100)/(768*D21*2.2045) -> 38.008193 | H21: =Prep!I18 -> 95 | I21: =G21*24*(H21/100) -> 866.58681 | J21: =Prep!C18 -> 1 | K21: =I21*J21 -> 866.58681 | L21: =Prep!J18 -> 11.7 | M21: =Prep!K18 -> 65 | N21: =L21*(M21/100) -> 7.605 | O21: =N21*24*(H21/100) -> 173.394 | P21: =(O21/K21)*L15 -> 0.20569511
A22: Drawing | B22: Breaker | D22: =Prep!D23 -> 0.12 | E22: =Prep!G23 -> 350 | F22: =Prep!H23 -> 85 | G22: =E22*60*(F22/100)/(768*D22*2.2045) -> 87.858878 | H22: =Prep!I23 -> 95 | I22: =G22*24*(H22/100) -> 2003.1824 | J22: =Prep!C23 -> 2 | K22: =I22*J22 -> 4006.3648 | L22: =Prep!J23 -> 13.6 | M22: =Prep!K23 -> 50 | N22: =L22*(M22/100) -> 6.8 | O22: =N22*24*(H22/100) -> 155.04 | P22: =(O22/K22)*M15 -> 0.039583876
B23: Finisher | D23: =Prep!D30 -> 0.12 | E23: =Prep!G30 -> 350 | F23: =Prep!H30 -> 85 | G23: =E23*60*(F23/100)/(768*D23*2.2045) -> 87.858878 | H23: =Prep!I30 -> 95 | I23: =G23*24*(H23/100) -> 2003.1824 | J23: =Prep!C30 -> 1 | K23: =I23*J23 -> 2003.1824 | L23: =Prep!J30 -> 9.1333333 | M23: =Prep!K30 -> 61.666667 | N23: =L23*(M23/100) -> 5.6322222 | O23: =N23*24*(H23/100) -> 128.41467 | P23: =(O23/K23)*N15 -> 0.065408184
A24: Simplex | B24: Main | D24: =Prep!D38 -> 1 | E24: =Prep!G38 -> 18.540183 | F24: =Prep!H38 -> 80 | G24: =E24*60*(F24/100)/(768*D24*2.2045) -> 0.52563458 | H24: =Prep!I38 -> 95 | I24: =G24*24*(H24/100) -> 11.984469 | J24: =Prep!C38 -> 144 | K24: =I24*J24 -> 1725.7635 | L24: =Prep!J38 -> 11.5 | M24: =Prep!K38 -> 80 | N24: =L24*(M24/100) -> 9.2 | O24: =N24*24*(H24/100) -> 209.76 | P24: =(O24/K24)*O15 -> 0.12370643
B25: OHTC | H25: =Prep!I38 -> 95 | L25: =Prep!L38 -> 1.5 | M25: =Prep!M38 -> 55 | N25: =L25*(M25/100) -> 0.825 | O25: =N25*24*(H25/100) -> 18.81 | P25: =(O25/K24)*O15 -> 0.011093239
A26: Spinning | B26: Main | D26: =Spin!D22 -> 41.3 | E26: - | F26: - | G26: - | H26: =Spin!I22 -> 95 | I26: =(Spin!H22*3)/1000*(H26/100) -> 0.33645421 | J26: =Spin!C22 -> 1140.9231 | K26: =I26*J26 -> 383.86837 | L26: - | M26: - | N26: =((7.5+(80/Spin!D22)+(500/(Spin!F22*Spin!F22)))*(Spin!E22/10000)*(Spin!E22/10000)*Spin!J22)*Spin!C22/1000 -> 29.845485 | O26: =N26*24*(H26/100) -> 680.47706 | P26: =(O26/K26)*P15 -> 1.7771262 | Q26: =SUM(P26:P28) -> 2.0515258
B27: Pneumafil | D27: - | E27: - | F27: - | G27: - | H27: =Spin!I22 -> 95 | I27: - | J27: - | K27: - | L27: =Spin!K22 -> 5.2750809 | M27: =Spin!L22 -> 70 | N27: =L27*(M27/100) -> 3.6925566 | O27: =N27*24*(H27/100) -> 84.190291 | P27: =(O27/K26)*P15 -> 0.21987041
B28: OHTC | D28: - | E28: - | F28: - | G28: - | H28: =Spin!I22 -> 95 | I28: - | J28: - | K28: - | L28: =Spin!M22 -> 1.6650485 | M28: =Spin!N22 -> 55 | N28: =L28*(M28/100) -> 0.9157767 | O28: =N28*24*(H28/100) -> 20.879709 | P28: =(O28/K26)*P15 -> 0.05452921
A29: Auto Coner | B29: Main | D29: =AConer!D9 -> 41.3 | E29: =AConer!E9 -> 1425 | F29: =AConer!F9 -> 88 | G29: =E29*60*(F29/100)/(768*AConer!D9*2.2045) -> 1.0760375 | H29: =AConer!G9 -> 95 | I29: =G29*24*(H29/100) -> 24.533655 | J29: =AConer!C9 -> 60 | K29: =I29*J29 -> 1472.0193 | L29: =AConer!H9 -> 49.35 | M29: =AConer!I9 -> 60 | N29: =L29*(M29/100) -> 29.61 | O29: =N29*24*(H29/100) -> 675.108 | P29: =(O29/K29)*Q15 -> 0.45862713 | Q29: =SUM(P29:P31) -> 0.55930516
B30: Pneumafil | D30: - | E30: - | F30: - | G30: - | H30: =AConer!G9 -> 95 | I30: - | J30: - | K30: - | L30: =AConer!J9 -> 8 | M30: =AConer!K9 -> 70 | N30: =L30*(M30/100) -> 5.6 | O30: =N30*24*(H30/100) -> 127.68 | P30: =(O30/K29)*Q15 -> 0.086737992
A31: - OHTC | B31: OHTC | D31: - | E31: - | F31: - | G31: - | H31: =AConer!G9 -> 95 | I31: - | J31: - | K31: - | L31: =AConer!L9 -> 1.5 | M31: =AConer!M9 -> 60 | N31: =L31*(M31/100) -> 0.9 | O31: =N31*24*(H31/100) -> 20.52 | P31: =(O31/K29)*Q15 -> 0.013940034
A32: ` | Q32: =SUM(Q19:Q31) -> 3.246638
A34: Utilities | B34: VXL System | C34: BR & Carding | J34: =Utilities!C3 -> 1 | L34: =Utilities!D3 -> 55.77 | M34: =Utilities!E3 -> 70 | O34: =Utilities!F3*$C$8/100 -> 936.936 | P34: =O34/$C$6 -> 0.18775186 | Q34: =SUM(P34:P38) -> 0.91943536
B35: Air Compressor | C35: All | J35: =Utilities!C4 -> 1 | L35: =Utilities!D4 -> 33.7 | M35: =Utilities!E4 -> 70 | O35: =Utilities!F4*$C$8/100 -> 566.16 | P35: =O35/$C$6 -> 0.11345235
B36: Humidifcation Plant | C36: All | J36: =Utilities!C5 -> 1 | L36: =Utilities!D5 -> 74 | M36: =Utilities!E5 -> 70 | O36: =Utilities!F5*$C$8/100 -> 1243.2 | P36: =O36/$C$6 -> 0.24912386
B37: Exhaust | C37: All | J37: =Utilities!C6 -> 1 | L37: =Utilities!D6 -> 87.64 | M37: =Utilities!E6 -> 70 | O37: =Utilities!F6*$C$8/100 -> 1472.352 | P37: =O37/$C$6 -> 0.29504345
B38: Lightings | C38: All | J38: =Utilities!C7 -> 1 | L38: =Utilities!D7 -> 22 | M38: =Utilities!E7 -> 70 | O38: =Utilities!F7*$C$8/100 -> 369.6 | P38: =O38/$C$6 -> 0.07406385
A39: Total | Q39: =Q34 -> 0.91943536
A41: Overall UKG | Q41: =Q32+Q39 -> 4.1660734
S70: 58229

Sheet Prep
A1: PREPARATORY DATAS
A2: Department | B2: M/c. No. | H2: Kgs. / Hour | I2: Utilization % | J2: KW | K2: Motor Eff % | L2: OHTC KW | M2: Motor Eff.%
A3: Preopener | B3: 1 | H3: 500 | I3: 95 | J3: 5 | K3: 50
A5: Department | B5: M/c. No. | C5: No of Del. | D5: Hank | G5: MPM | H5: Efficiency % | I5: Utilization % | J5: KW | K5: Motor Eff % | L5: OHTC KW | M5: Motor Eff.%
A6: Blow room | B6: 1 | C6: 1 | D6: 0.0012 | G6: 10.2 | H6: 99 | I6: 95 | J6: 82.54 | K6: 60
B10: Overall | C10: =AVERAGE(C6:C9) -> 1 | D10: =AVERAGE(D6:D9) -> 0.0012 | G10: =AVERAGE(G6:G9) -> 10.2 | H10: =AVERAGE(H6:H9) -> 99 | I10: =AVERAGE(I6:I9) -> 95 | J10: =AVERAGE(J6:J9) -> 82.54 | K10: =AVERAGE(K6:K9) -> 60
A12: Carding | B12: 1 | C12: 1 | D12: 0.12 | G12: 130 | H12: 99 | I12: 95 | J12: 11.7 | K12: 65
B13: 2 | C13: 1 | D13: 0.12 | G13: 130 | H13: 99 | I13: 95 | J13: 11.7 | K13: 65
B14: 3 | C14: 1 | D14: 0.12 | G14: 130 | H14: 99 | I14: 95 | J14: 11.7 | K14: 65
B15: 4 | C15: 1 | D15: 0.12 | G15: 130 | H15: 99 | I15: 95 | J15: 11.7 | K15: 65
B16: 5 | C16: 1 | D16: 0.12 | G16: 130 | H16: 99 | I16: 95 | J16: 11.7 | K16: 65
B17: 6 | C17: 1 | D17: 0.12 | G17: 130 | H17: 99 | I17: 95 | J17: 11.7 | K17: 65
B18: Overall | C18: =AVERAGE(C12:C17) -> 1 | D18: =AVERAGE(D12:D17) -> 0.12 | G18: =AVERAGE(G12:G17) -> 130 | H18: 99 | I18: =AVERAGE(I12:I17) -> 95 | J18: =AVERAGE(J12:J17) -> 11.7 | K18: =AVERAGE(K12:K17) -> 65
A20: Drawing Breaker | B20: 1 | C20: 2 | D20: 0.12 | G20: 350 | H20: 85 | I20: 95 | J20: 13.6 | K20: 50
B23: Overall | C23: =AVERAGE(C20:C22) -> 2 | D23: =AVERAGE(D20:D22) -> 0.12 | G23: =AVERAGE(G20:G22) -> 350 | H23: =AVERAGE(H20:H22) -> 85 | I23: =AVERAGE(I20:I22) -> 95 | J23: =AVERAGE(J20:J22) -> 13.6 | K23: =AVERAGE(K20:K22) -> 50
A25: Drawing Finisher | B25: 1 | C25: 1 | D25: 0.12 | G25: 350 | H25: 85 | I25: 95 | J25: 10.1 | K25: 60
B26: 2 | C26: 1 | D26: 0.12 | G26: 350 | H26: 85 | I26: 95 | J26: 10.1 | K26: 60
B27: 3 | C27: 1 | D27: 0.12 | G27: 350 | H27: 85 | I27: 95 | J27: 7.2 | K27: 65
B30: Overall | C30: =AVERAGE(C25:C29) -> 1 | D30: =AVERAGE(D25:D29) -> 0.12 | G30: =AVERAGE(G25:G29) -> 350 | H30: =AVERAGE(H25:H29) -> 85 | I30: =AVERAGE(I25:I29) -> 95 | J30: =AVERAGE(J25:J29) -> 9.1333333 | K30: =AVERAGE(K25:K29) -> 61.666667
A32: Simplex | B32: M/c. No. | C32: No of Del. | D32: Hank | E32: Spl.Speed | F32: T.P.I | G32: MPM | H32: Efficiency % | I32: Utilization % | J32: KW | K32: Motor Eff % | L32: OHTC KW | M32: Motor Eff.%
B33: 1 | C33: 144 | D33: 1 | E33: 1000 | F33: 1.37 | G33: =(E33/F33)/39.37 -> 18.540183 | H33: 80 | I33: 95 | J33: 11.5 | K33: 80 | L33: 1.5 | M33: 55
B34: 2 | C34: 144 | D34: 1 | E34: 1000 | F34: 1.37 | G34: =(E34/F34)/39.37 -> 18.540183 | H34: 80 | I34: 95 | J34: 11.5 | K34: 80 | L34: 1.5 | M34: 55
B35: 3 | C35: 144 | D35: 1 | E35: 1000 | F35: 1.37 | G35: =(E35/F35)/39.37 -> 18.540183 | H35: 80 | I35: 95 | J35: 11.5 | K35: 80 | L35: 1.5 | M35: 55
B38: Overall | C38: =AVERAGE(C33:C37) -> 144 | D38: =AVERAGE(D33:D37) -> 1 | E38: =AVERAGE(E33:E37) -> 1000 | F38: =AVERAGE(F33:F37) -> 1.37 | G38: =AVERAGE(G33:G37) -> 18.540183 | H38: =AVERAGE(H33:H37) -> 80 | I38: =AVERAGE(I33:I37) -> 95 | J38: =AVERAGE(J33:J37) -> 11.5 | ... M38: =AVERAGE(M33:M37) -> 55

Sheet MF
A1: Spinning Modernisation Factor
A2: Date : | B2: =TODAY() -> 45588
A3: R.F.No. | B3: Make | C3: Main | D3: Type of | E3: ABS Pulley | F3: Spl. wharve | G3: Ring Tube | H3: Ring | I3: MF
C4: Motor | D4: Drive | E4: Dia in " | F4: Dia in " | G4: Ht. in mm | H4: Dia in mm
C5: Std = 0.00 | D5: V/T Belt = 0.00 | E5: 10 | F5: 25.4 | G5: 210 | H5: 42
C6: EE = 3.00% | D6: Flat = 3.00% | E6: 1 Inch = 2.00% | F6: 1 MM = 1.00% | G6: 10 MM = 1.00% | H6: 1 MM = 2.00%
C7: 3 | D7: 3 | E7: 2 | F7: 1 | G7: 1 | H7: 2
A9: 1 | B9: LR63AX | C9: 3 | D9: 3 | E9: 11 | F9: 18.5 | G9: 200 | H9: 38 | I9: =(0.92)-(((C9+D9)+((E9-$E$5)/1)*($E$7)+(($F$5-F9)/1*($F$7))+(($G$5-G9)/10*($G$7))+(($H$5-H9)/1*($H$7)))/100) -> 0.681
A10: 2 | B10: " | C10: 3 | D10: 3 | E10: 11 | F10: 18.5 | G10: 200 | H10: 38 | I10: =(0.92)-(((C10+D10)+((E10-$E$5)/1)*($E$7)+(($F$5-F10)/1*($F$7))+(($G$5-G10)/10*($G$7))+(($H$5-H10)/1*($H$7)))/100) -> 0.681
A11: 3 | B11: " | C11: 3 | D11: 3 | E11: 11 | F11: 18.5 | G11: 200 | H11: 38 | I11: =(0.92)-(((C11+D11)+((E11-$E$5)/1)*($E$7)+(($F$5-F11)/1*($F$7))+(($G$5-G11)/10*($G$7))+(($H$5-H11)/1*($H$7)))/100) -> 0.681
A12: 4 | B12: " | C12: 3 | D12: 3 | E12: 11 | F12: 18.5 | G12: 200 | H12: 38 | I12: =(0.92)-(((C12+D12)+((E12-$E$5)/1)*($E$7)+(($F$5-F12)/1*($F$7))+(($G$5-G12)/10*($G$7))+(($H$5-H12)/1*($H$7)))/100) -> 0.681
A13: 5 | B13: LR60A | C13: 3 | D13: 3 | E13: 11 | F13: 18.5 | G13: 200 | H13: 38 | I13: =(0.92)-(((C13+D13)+((E13-$E$5)/1)*($E$7)+(($F$5-F13)/1*($F$7))+(($G$5-G13)/10*($G$7))+(($H$5-H13)/1*($H$7)))/100) -> 0.681
A14: 6 | B14: " | C14: 3 | D14: 3 | E14: 11 | F14: 18.5 | G14: 200 | H14: 38 | I14: =(0.92)-(((C14+D14)+((E14-$E$5)/1)*($E$7)+(($F$5-F14)/1*($F$7))+(($G$5-G14)/10*($G$7))+(($H$5-H14)/1*($H$7)))/100) -> 0.681
A15: 7 | B15: " | C15: 3 | D15: 3 | E15: 11 | F15: 18.5 | G15: 200 | H15: 38 | I15: =(0.92)-(((C15+D15)+((E15-$E$5)/1)*($E$7)+(($F$5-F15)/1*($F$7))+(($G$5-G15)/10*($G$7))+(($H$5-H15)/1*($H$7)))/100) -> 0.681
A16: 8 | B16: " | C16: 3 | D16: 3 | E16: 11 | F16: 18.5 | G16: 200 | H16: 38 | I16: =(0.92)-(((C16+D16)+((E16-$E$5)/1)*($E$7)+(($F$5-F16)/1*($F$7))+(($G$5-G16)/10*($G$7))+(($H$5-H16)/1*($H$7)))/100) -> 0.681
A17: 9 | B17: " | C17: 3 | D17: 3 | E17: 11 | F17: 18.5 | G17: 200 | H17: 38 | I17: =(0.92)-(((C17+D17)+((E17-$E$5)/1)*($E$7)+(($F$5-F17)/1*($F$7))+(($G$5-G17)/10*($G$7))+(($H$5-H17)/1*($H$7)))/100) -> 0.681
A18: 10 | B18: " | C18: 3 | D18: 3 | E18: 11 | F18: 18.5 | G18: 200 | H18: 38 | I18: =(0.92)-(((C18+D18)+((E18-$E$5)/1)*($E$7)+(($F$5-F18)/1*($F$7))+(($G$5-G18)/10*($G$7))+(($H$5-H18)/1*($H$7)))/100) -> 0.681
A19: 11 | B19: " | C19: 3 | D19: 3 | E19: 11 | F19: 18.5 | G19: 200 | H19: 38 | I19: =(0.92)-(((C19+D19)+((E19-$E$5)/1)*($E$7)+(($F$5-F19)/1*($F$7))+(($G$5-G19)/10*($G$7))+(($H$5-H19)/1*($H$7)))/100) -> 0.681
A20: 12 | B20: LR9AX | C20: 3 | D20: 3 | E20: 11 | F20: 18.5 | G20: 200 | H20: 38 | I20: =(0.92)-(((C20+D20)+((E20-$E$5)/1)*($E$7)+(($F$5-F20)/1*($F$7))+(($G$5-G20)/10*($G$7))+(($H$5-H20)/1*($H$7)))/100) -> 0.681
A21: 13 | B21: " | C21: 3 | D21: 3 | E21: 11 | F21: 18.5 | G21: 200 | H21: 38 | I21: =(0.92)-(((C21+D21)+((E21-$E$5)/1)*($E$7)+(($F$5-F21)/1*($F$7))+(($G$5-G21)/10*($G$7))+(($H$5-H21)/1*($H$7)))/100) -> 0.681

Sheet Spin
A1: SPINNING DATAS
A2: =UKG!A2:C2 -> Date | B2: =UKG!C2 -> 45588
A3: Ring Frame
A4: RF No. | B4: RFs. | C4: Spls. | D4: Count | E4: S.Speed | F4: TPI | G4: Eff. % | H4: Gms / Spl | I4: Utilization % | J4: MF | K4: Pne. KW | L4: Motor Eff.% | M4: OHTC KW | N4: Motor Eff.%
A5: 1 | B5: 1 | C5: 1200 | D5: 41.3 | E5: 19500 | F5: 27.66 | G5: 96 | H5: =(7.2*E5*(G5/100))/(D5*F5) -> 117.98753 | I5: 95 | J5: =MF!I9 -> 0.681 | K5: 5 | L5: 70 | M5: 1.5 | N5: 55
A6: 2 | B6: 1 | C6: 1200 | D6: 41.3 | E6: 19500 | F6: 27.66 | G6: 96 | H6: =(7.2*E6*(G6/100))/(D6*F6) -> 117.98753 | I6: 95 | J6: =MF!I10 -> 0.681 | K6: 5 | L6: 70 | M6: 1.5 | N6: 55
A7: 3 | B7: 1 | C7: 1200 | D7: 41.3 | E7: 19500 | F7: 27.66 | G7: 96 | H7: =(7.2*E7*(G7/100))/(D7*F7) -> 117.98753 | I7: 95 | J7: =MF!I11 -> 0.681 | K7: 5 | L7: 70 | M7: 1.5 | N7: 55
A8: 4 | B8: 1 | C8: 1200 | D8: 41.3 | E8: 19500 | F8: 27.66 | G8: 96 | H8: =(7.2*E8*(G8/100))/(D8*F8) -> 117.98753 | I8: 95 | J8: =MF!I12 -> 0.681 | K8: 5 | L8: 70 | M8: 1.5 | N8: 55
A9: 5 | B9: 1 | C9: 1200 | D9: 41.3 | E9: 19500 | F9: 27.66 | G9: 96 | H9: =(7.2*E9*(G9/100))/(D9*F9) -> 117.98753 | I9: 95 | J9: =MF!I13 -> 0.681 | K9: 5 | L9: 70 | M9: 1.5 | N9: 55
A10: 6 | B10: 1 | C10: 1200 | D10: 41.3 | E10: 19500 | F10: 27.66 | G10: 96 | H10: =(7.2*E10*(G10/100))/(D10*F10) -> 117.98753 | I10: 95 | J10: =MF!I14 -> 0.681 | K10: 5 | L10: 70 | M10: 1.5 | N10: 55
A11: 7 | B11: 1 | C11: 1200 | D11: 41.3 | E11: 19500 | F11: 27.66 | G11: 96 | H11: =(7.2*E11*(G11/100))/(D11*F11) -> 117.98753 | I11: 95 | J11: =MF!I15 -> 0.681 | K11: 5 | L11: 70 | M11: 1.5 | N11: 55
A12: 8 | B12: 1 | C12: 1200 | D12: 41.3 | E12: 19500 | F12: 27.66 | G12: 96 | H12: =(7.2*E12*(G12/100))/(D12*F12) -> 117.98753 | I12: 95 | J12: =MF!I16 -> 0.681 | K12: 5 | L12: 70 | M12: 1.5 | N12: 55
A13: 9 | B13: 1 | C13: 1200 | D13: 41.3 | E13: 19500 | F13: 27.66 | G13: 96 | H13: =(7.2*E13*(G13/100))/(D13*F13) -> 117.98753 | I13: 95 | J13: =MF!I17 -> 0.681 | K13: 5 | L13: 70 | M13: 1.5 | N13: 55
A14: 10 | B14: 1 | C14: 1200 | D14: 41.3 | E14: 19500 | F14: 27.66 | G14: 96 | H14: =(7.2*E14*(G14/100))/(D14*F14) -> 117.98753 | I14: 95 | J14: =MF!I18 -> 0.681 | K14: 5 | L14: 70 | M14: 1.5 | N14: 55 | P14: `
A15: 11 | B15: 1 | C15: 1200 | D15: 41.3 | E15: 19500 | F15: 27.66 | G15: 96 | H15: =(7.2*E15*(G15/100))/(D15*F15) -> 117.98753 | I15: 95 | J15: =MF!I19 -> 0.681 | K15: 5 | L15: 70 | M15: 1.5 | N15: 55
A16: 12 | B16: 1 | C16: 816 | D16: 41.3 | E16: 19600 | F16: 27.66 | G16: 96 | H16: =(7.2*E16*(G16/100))/(D16*F16) -> 118.5926 | I16: 95 | J16: =MF!I20 -> 0.681 | K16: 7.5 | L16: 70 | M16: 3 | N16: 55
A17: 13 | B17: 1 | C17: 816 | D17: 41.3 | E17: 19600 | F17: 27.66 | G17: 96 | H17: =(7.2*E17*(G17/100))/(D17*F17) -> 118.5926 | I17: 95 | J17: =MF!I21 -> 0.681 | K17: 7.5 | L17: 70 | M17: 3 | N17: 55
A22: Overall | B22: =SUM(B5:B21) -> 13 | C22: =(SUM(C5:C21))/B22 -> 1140.9231 | D22: =(($C5*D5)+($C6*D6)+($C7*D7)+($C8*D8)+($C9*D9)+($C10*D10)+($C11*D11)+($C12*D12)+($C13*D13)+($C14*D14)+($C15*D15)+($C16*D16)+($C17*D17)+($C18*D18)+($C19*D19)+($C20*D20)+($C21*D21))/(SUM($C5:$C21)) -> 41.3 | E22: =(($C5*E5)+($C6*E6)+($C7*E7)+($C8*E8)+($C9*E9)+($C10*E10)+($C11*E11)+($C12*E12)+($C13*E13)+($C14*E14)+($C15*E15)+($C16*E16)+($C17*E17)+($C18*E18)+($C19*E19)+($C20*E20)+($C21*E21))/(SUM($C5:$C21)) -> 19511.003 | F22: =(($C5*F5)+($C6*F6)+($C7*F7)+($C8*F8)+($C9*F9)+($C10*F10)+($C11*F11)+($C12*F12)+($C13*F13)+($C14*F14)+($C15*F15)+($C16*F16)+($C17*F17)+($C18*F18)+($C19*F19)+($C20*F20)+($C21*F21))/(SUM($C5:$C21)) -> 27.66 | G22: =(($C5*G5)+($C6*G6)+($C7*G7)+($C8*G8)+($C9*G9)+($C10*G10)+($C11*G11)+($C12*G12)+($C13*G13)+($C14*G14)+($C15*G15)+($C16*G16)+($C17*G17)+($C18*G18)+($C19*G19)+($C20*G20)+($C21*G21))/(SUM($C5:$C21)) -> 96 | H22: =(($C5*H5)+($C6*H6)+($C7*H7)+($C8*H8)+($C9*H9)+($C10*H10)+($C11*H11)+($C12*H12)+($C13*H13)+($C14*H14)+($C15*H15)+($C16*H16)+($C17*H17)+($C18*H18)+($C19*H19)+($C20*H20)+($C21*H21))/(SUM($C5:$C21)) -> 118.05411 | I22: =(($C5*I5)+($C6*I6)+($C7*I7)+($C8*I8)+($C9*I9)+($C10*I10)+($C11*I11)+($C12*I12)+($C13*I13)+($C14*I14)+($C15*I15)+($C16*I16)+($C17*I17)+($C18*I18)+($C19*I19)+($C20*I20)+($C21*I21))/(SUM($C5:$C21)) -> 95 | J22: =(($C5*J5)+($C6*J6)+($C7*J7)+($C8*J8)+($C9*J9)+($C10*J10)+($C11*J11)+($C12*J12)+($C13*J13)+($C14*J14)+($C15*J15)+($C16*J16)+($C17*J17)+($C18*J18)+($C19*J19)+($C20*J20)+($C21*J21))/(SUM($C5:$C21)) -> 0.681 | K22: =(($C5*K5)+($C6*K6)+($C7*K7)+($C8*K8)+($C9*K9)+($C10*K10)+($C11*K11)+($C12*K12)+($C13*K13)+($C14*K14)+($C15*K15)+($C16*K16)+($C17*K17)+($C18*K18)+($C19*K19)+($C20*K20)+($C21*K21))/(SUM($C5:$C21)) -> 5.2750809 | ... N22: =(($C5*N5)+($C6*N6)+($C7*N7)+($C8*N8)+($C9*N9)+($C10*N10)+($C11*N11)+($C12*N12)+($C13*N13)+($C14*N14)+($C15*N15)+($C16*N16)+($C17*N17)+($C18*N18)+($C19*N19)+($C20*N20)+($C21*N21))/(SUM($C5:$C21)) -> 55
A23: Allotted Spindles | C23: =B22*C22 -> 14832

Sheet AConer
A1: Auto Coner
A2: Machine | B2: Nos. | C2: Drums | D2: Count | E2: MPM | F2: Efficiency % | G2: Utilization % | H2: KW | I2: Motor Eff. % | J2: Pneuma KW | K2: Motor Eff. % | L2: OHTC | M2: Motor Eff. %
A3: AC 1 | B3: 1 | C3: 60 | D3: 41.3 | E3: 1425 | F3: 88 | G3: 95 | H3: 49.35 | I3: 60 | J3: 8 | K3: 70 | L3: 1.5 | M3: 60
A4: AC 2 | B4: 1 | C4: 60 | D4: 41.3 | E4: 1425 | F4: 88 | G4: 95 | H4: 49.35 | I4: 60 | J4: 8 | K4: 70 | L4: 1.5 | M4: 60
A5: AC 3 | B5: 1 | C5: 60 | D5: 41.3 | E5: 1425 | F5: 88 | G5: 95 | H5: 49.35 | I5: 60 | J5: 8 | K5: 70 | L5: 1.5 | M5: 60
A6: AC 4 | B6: 1 | C6: 60 | D6: 41.3 | E6: 1425 | F6: 88 | G6: 95 | H6: 49.35 | I6: 60 | J6: 8 | K6: 70 | L6: 1.5 | M6: 60
A9: Overall | B9: =SUM(B3:B8) -> 4 | C9: =(SUM(C3:C8))/B9 -> 60 | D9: =(($C3*D3)+($C4*D4)+($C5*D5)+($C6*D6))/(SUM($C3:$C6)) -> 41.3 | E9: =(($C3*E3)+($C4*E4)+($C5*E5)+($C6*E6))/(SUM($C3:$C6)) -> 1425 | F9: =(($C3*F3)+($C4*F4)+($C5*F5)+($C6*F6))/(SUM($C3:$C6)) -> 88 | G9: =(($C3*G3)+($C4*G4)+($C5*G5)+($C6*G6))/(SUM($C3:$C6)) -> 95 | H9: =(($C3*H3)+($C4*H4)+($C5*H5)+($C6*H6))/(SUM($C3:$C6)) -> 49.35 | I9: =(($C3*I3)+($C4*I4)+($C5*I5)+($C6*I6))/(SUM($C3:$C6)) -> 60 | J9: =(($C3*J3)+($C4*J4)+($C5*J5)+($C6*J6))/(SUM($C3:$C6)) -> 8 | K9: =(($C3*K3)+($C4*K4)+($C5*K5)+($C6*K6))/(SUM($C3:$C6)) -> 70 | ... M9: =(($C3*M3)+($C4*M4)+($C5*M5)+($C6*M6))/(SUM($C3:$C6)) -> 60

Sheet Utilities
A1: UTILITIES
A2: Utility | B2: Description | C2: No.of M/cs. | D2: KW | E2: Load Eff % | F2: Units / Day
A3: VXL System | B3: Blow room & Carding | C3: 1 | D3: 55.77 | E3: 70 | F3: =(C3*D3*E3/100)*24 -> 936.936
A4: Air Compressor | B4: All | C4: 1 | D4: 33.7 | E4: 70 | F4: =(C4*D4*E4/100)*24 -> 566.16
A5: Humidifcation Plant | B5: All | C5: 1 | D5: 74 | E5: 70 | F5: =(C5*D5*E5/100)*24 -> 1243.2
A6: Exhaust | B6: All | C6: 1 | D6: 87.64 | E6: 70 | F6: =(C6*D6*E6/100)*24 -> 1472.352
A7: Lightings | C7: 1 | D7: 22 | E7: 70 | F7: =(C7*D7*E7/100)*24 -> 369.6
A8: Total | F8: =SUM(F3:F7) -> 4588.248
